BEGIN:VCALENDAR
VERSION:2.0
PRODID:-//Ocean City MD Property Management - ECPv5.12.3//NONSGML v1.0//EN
CALSCALE:GREGORIAN
METHOD:PUBLISH
X-WR-CALNAME:Ocean City MD Property Management
X-ORIGINAL-URL:https://ocmannproperties.com
X-WR-CALDESC:Events for Ocean City MD Property Management
BEGIN:VTIMEZONE
TZID:America/New_York
BEGIN:DAYLIGHT
TZOFFSETFROM:-0500
TZOFFSETTO:-0400
TZNAME:EDT
DTSTART:20210314T070000
END:DAYLIGHT
BEGIN:STANDARD
TZOFFSETFROM:-0400
TZOFFSETTO:-0500
TZNAME:EST
DTSTART:20211107T060000
END:STANDARD
END:VTIMEZONE
BEGIN:VEVENT
DTSTART;TZID=America/New_York:20210327T120000
DTEND;TZID=America/New_York:20210327T160000
DTSTAMP:20260423T070111
CREATED:20210327T090814Z
LAST-MODIFIED:20210327T090814Z
UID:2096379-1616846400-1616860800@ocmannproperties.com
SUMMARY:Darin Engh and Friends
DESCRIPTION:Darin Engh is usually caught playing in his band Opposite Directions\, but this time he is bringing a few friends along! Enjoy this all star\, bluegrass jam session out on the deck at Fager’s Island. 
URL:https://ocmannproperties.com/event/darin-engh-and-friends/
END:VEVENT
BEGIN:VEVENT
DTSTART;TZID=America/New_York:20210327T120000
DTEND;TZID=America/New_York:20210327T160000
DTSTAMP:20260423T070111
CREATED:20210327T210014Z
LAST-MODIFIED:20210327T210014Z
UID:2096380-1616846400-1616860800@ocmannproperties.com
SUMMARY:Darin Engh and Friends
DESCRIPTION:Darin Engh is usually caught playing in his band Opposite Directions\, but this time he is bringing a few friends along! Enjoy this all star\, bluegrass jam session out on the deck at Fager’s Island. 
URL:https://ocmannproperties.com/event/darin-engh-and-friends-2/
END:VEVENT
END:VCALENDAR