BEGIN:VCALENDAR
VERSION:2.0
PRODID:-//Ocean City MD Property Management - ECPv5.12.3//NONSGML v1.0//EN
CALSCALE:GREGORIAN
METHOD:PUBLISH
X-WR-CALNAME:Ocean City MD Property Management
X-ORIGINAL-URL:https://ocmannproperties.com
X-WR-CALDESC:Events for Ocean City MD Property Management
BEGIN:VTIMEZONE
TZID:America/New_York
BEGIN:DAYLIGHT
TZOFFSETFROM:-0500
TZOFFSETTO:-0400
TZNAME:EDT
DTSTART:20210314T070000
END:DAYLIGHT
BEGIN:STANDARD
TZOFFSETFROM:-0400
TZOFFSETTO:-0500
TZNAME:EST
DTSTART:20211107T060000
END:STANDARD
END:VTIMEZONE
BEGIN:VEVENT
DTSTART;TZID=America/New_York:20210402T160000
DTEND;TZID=America/New_York:20210402T200000
DTSTAMP:20260423T051831
CREATED:20210402T210043Z
LAST-MODIFIED:20210402T210043Z
UID:2096393-1617379200-1617393600@ocmannproperties.com
SUMMARY:Bryen O'Boyle  From Mr. Greengenes
DESCRIPTION:Legendary lead vocalist of Mr. Greengenes\, Bryen O’Boyle has also been making waves as a an acoustic artist.  Don’t miss his amazing performances! Make sure you come for Happy Hour at Skye Bar from 3-6pm! Raw bar Happy Hour specials include $1 oysters and 1 1/4lb. lobster for $20. Drink specials include $5.50 Smirnoff Crushes\, $3.75 Rails\, $1 off Drafts\, and $5 House Wines.
URL:https://ocmannproperties.com/event/bryen-oboyle-from-mr-greengenes/
END:VEVENT
BEGIN:VEVENT
DTSTART;TZID=America/New_York:20210402T170000
DTEND;TZID=America/New_York:20210402T210000
DTSTAMP:20260423T051831
CREATED:20210402T085838Z
LAST-MODIFIED:20210402T085838Z
UID:2096392-1617382800-1617397200@ocmannproperties.com
SUMMARY:Stealing Savannah
DESCRIPTION:Stealing Savanah\, party cover band hailing from Southern New Jersey and spreading infectious noise up and down the East coast. Come see the talented band members live at Seacrets Jamaica USA in Ocean City\, Maryland! 
URL:https://ocmannproperties.com/event/stealing-savannah/
END:VEVENT
END:VCALENDAR