BEGIN:VCALENDAR
VERSION:2.0
PRODID:-//Ocean City MD Property Management - ECPv5.12.3//NONSGML v1.0//EN
CALSCALE:GREGORIAN
METHOD:PUBLISH
X-WR-CALNAME:Ocean City MD Property Management
X-ORIGINAL-URL:https://ocmannproperties.com
X-WR-CALDESC:Events for Ocean City MD Property Management
BEGIN:VTIMEZONE
TZID:America/New_York
BEGIN:DAYLIGHT
TZOFFSETFROM:-0500
TZOFFSETTO:-0400
TZNAME:EDT
DTSTART:20210314T070000
END:DAYLIGHT
BEGIN:STANDARD
TZOFFSETFROM:-0400
TZOFFSETTO:-0500
TZNAME:EST
DTSTART:20211107T060000
END:STANDARD
END:VTIMEZONE
BEGIN:VEVENT
DTSTART;TZID=America/New_York:20210428T160000
DTEND;TZID=America/New_York:20210428T200000
DTSTAMP:20260423T072004
CREATED:20210426T085845Z
LAST-MODIFIED:20210426T085845Z
UID:2096440-1619625600-1619640000@ocmannproperties.com
SUMMARY:Wes Davis
DESCRIPTION:Wes Davis is a singer/songwriter who performs originals and rock covers.  He truly knows how to connect with his audience.  Enjoy Happy Hour from 3 to 6pm then stay for dinner and Wes Davis live on stage from 4 to 8pm. 
URL:https://ocmannproperties.com/event/wes-davis/
END:VEVENT
BEGIN:VEVENT
DTSTART;TZID=America/New_York:20210428T160000
DTEND;TZID=America/New_York:20210428T200000
DTSTAMP:20260423T072004
CREATED:20210426T205905Z
LAST-MODIFIED:20210426T205905Z
UID:2096441-1619625600-1619640000@ocmannproperties.com
SUMMARY:Wes Davis
DESCRIPTION:Wes Davis is a singer/songwriter who performs originals and rock covers.  He truly knows how to connect with his audience.  Enjoy Happy Hour from 3 to 6pm then stay for dinner and Wes Davis live on stage from 4 to 8pm. 
URL:https://ocmannproperties.com/event/wes-davis-2/
END:VEVENT
BEGIN:VEVENT
DTSTART;TZID=America/New_York:20210428T160000
DTEND;TZID=America/New_York:20210428T200000
DTSTAMP:20260423T072004
CREATED:20210427T085904Z
LAST-MODIFIED:20210427T085904Z
UID:2096442-1619625600-1619640000@ocmannproperties.com
SUMMARY:Wes Davis
DESCRIPTION:Wes Davis is a singer/songwriter who performs originals and rock covers.  He truly knows how to connect with his audience.  Enjoy Happy Hour from 3 to 6pm then stay for dinner and Wes Davis live on stage from 4 to 8pm. 
URL:https://ocmannproperties.com/event/wes-davis-3/
END:VEVENT
BEGIN:VEVENT
DTSTART;TZID=America/New_York:20210428T160000
DTEND;TZID=America/New_York:20210428T200000
DTSTAMP:20260423T072004
CREATED:20210427T205943Z
LAST-MODIFIED:20210427T205943Z
UID:2096443-1619625600-1619640000@ocmannproperties.com
SUMMARY:Wes Davis
DESCRIPTION:Wes Davis is a singer/songwriter who performs originals and rock covers.  He truly knows how to connect with his audience.  Enjoy Happy Hour from 3 to 6pm then stay for dinner and Wes Davis live on stage from 4 to 8pm. 
URL:https://ocmannproperties.com/event/wes-davis-4/
END:VEVENT
BEGIN:VEVENT
DTSTART;TZID=America/New_York:20210428T160000
DTEND;TZID=America/New_York:20210428T200000
DTSTAMP:20260423T072004
CREATED:20210428T085930Z
LAST-MODIFIED:20210428T085930Z
UID:2096444-1619625600-1619640000@ocmannproperties.com
SUMMARY:Wes Davis
DESCRIPTION:Wes Davis is a singer/songwriter who performs originals and rock covers.  He truly knows how to connect with his audience.  Enjoy Happy Hour from 3 to 6pm then stay for dinner and Wes Davis live on stage from 4 to 8pm. 
URL:https://ocmannproperties.com/event/wes-davis-5/
END:VEVENT
BEGIN:VEVENT
DTSTART;TZID=America/New_York:20210428T160000
DTEND;TZID=America/New_York:20210428T200000
DTSTAMP:20260423T072004
CREATED:20210428T205855Z
LAST-MODIFIED:20210428T205855Z
UID:2096445-1619625600-1619640000@ocmannproperties.com
SUMMARY:Wes Davis
DESCRIPTION:Wes Davis is a singer/songwriter who performs originals and rock covers.  He truly knows how to connect with his audience.  Enjoy Happy Hour from 3 to 6pm then stay for dinner and Wes Davis live on stage from 4 to 8pm. 
URL:https://ocmannproperties.com/event/wes-davis-6/
END:VEVENT
END:VCALENDAR