BEGIN:VCALENDAR
VERSION:2.0
PRODID:-//Ocean City MD Property Management - ECPv5.12.3//NONSGML v1.0//EN
CALSCALE:GREGORIAN
METHOD:PUBLISH
X-WR-CALNAME:Ocean City MD Property Management
X-ORIGINAL-URL:https://ocmannproperties.com
X-WR-CALDESC:Events for Ocean City MD Property Management
BEGIN:VTIMEZONE
TZID:America/New_York
BEGIN:DAYLIGHT
TZOFFSETFROM:-0500
TZOFFSETTO:-0400
TZNAME:EDT
DTSTART:20210314T070000
END:DAYLIGHT
BEGIN:STANDARD
TZOFFSETFROM:-0400
TZOFFSETTO:-0500
TZNAME:EST
DTSTART:20211107T060000
END:STANDARD
END:VTIMEZONE
BEGIN:VEVENT
DTSTART;TZID=America/New_York:20210430T160000
DTEND;TZID=America/New_York:20210430T200000
DTSTAMP:20260423T072003
CREATED:20210430T085910Z
LAST-MODIFIED:20210430T085910Z
UID:2096448-1619798400-1619812800@ocmannproperties.com
SUMMARY:Dalton Elliott
DESCRIPTION:Dalton Elliott from American Idol will be performing live at Skye Bar in midtown Ocean City! A native of Nashville and now residing in Chincoteague Island\, VA\, Dalton got his start playing local bars and clubs on the Eastern Shore\, and will now be at Skye Bar. This country artist will surely put on a show that will leave you wanting more. Make sure you come for Happy Hour at Skye Bar from 3-6pm! Raw bar Happy Hour specials include $1 oysters and 1 1/4lb. lobster for $20. Drink specials include $5.50 Smirnoff Crushes\, $3.75 Rails\, $1 off Drafts\, and $5 House Wines.
URL:https://ocmannproperties.com/event/dalton-elliott-3/
END:VEVENT
BEGIN:VEVENT
DTSTART;TZID=America/New_York:20210430T160000
DTEND;TZID=America/New_York:20210430T200000
DTSTAMP:20260423T072003
CREATED:20210430T205904Z
LAST-MODIFIED:20210430T205904Z
UID:2096449-1619798400-1619812800@ocmannproperties.com
SUMMARY:Dalton Elliott
DESCRIPTION:Dalton Elliott from American Idol will be performing live at Skye Bar in midtown Ocean City! A native of Nashville and now residing in Chincoteague Island\, VA\, Dalton got his start playing local bars and clubs on the Eastern Shore\, and will now be at Skye Bar. This country artist will surely put on a show that will leave you wanting more. Make sure you come for Happy Hour at Skye Bar from 3-6pm! Raw bar Happy Hour specials include $1 oysters and 1 1/4lb. lobster for $20. Drink specials include $5.50 Smirnoff Crushes\, $3.75 Rails\, $1 off Drafts\, and $5 House Wines.
URL:https://ocmannproperties.com/event/dalton-elliott-4/
END:VEVENT
END:VCALENDAR