BEGIN:VCALENDAR
VERSION:2.0
PRODID:-//Ocean City MD Property Management - ECPv5.12.3//NONSGML v1.0//EN
CALSCALE:GREGORIAN
METHOD:PUBLISH
X-WR-CALNAME:Ocean City MD Property Management
X-ORIGINAL-URL:https://ocmannproperties.com
X-WR-CALDESC:Events for Ocean City MD Property Management
BEGIN:VTIMEZONE
TZID:America/New_York
BEGIN:DAYLIGHT
TZOFFSETFROM:-0500
TZOFFSETTO:-0400
TZNAME:EDT
DTSTART:20210314T070000
END:DAYLIGHT
BEGIN:STANDARD
TZOFFSETFROM:-0400
TZOFFSETTO:-0500
TZNAME:EST
DTSTART:20211107T060000
END:STANDARD
END:VTIMEZONE
BEGIN:VEVENT
DTSTART;TZID=America/New_York:20210503T170000
DTEND;TZID=America/New_York:20210503T170000
DTSTAMP:20260423T090352
CREATED:20210503T090120Z
LAST-MODIFIED:20210503T090120Z
UID:2096454-1620061200-1620061200@ocmannproperties.com
SUMMARY:Monday Deck Party at Fager's Island
DESCRIPTION:Stop by Fager’s Island in Ocean City\, Maryland on Monday\, May 3rd for the first Deck Party of the season. This event is the ‘unoffical’ start to the summer in Ocean City. There will be fun\, food\, drinks\, and live entertainment by Tranzfusion\, DJ Greg\, and DJ Robcee. Be sure to clear your evening plans because this is one party you won’t want to miss!
URL:https://ocmannproperties.com/event/monday-deck-party-at-fagers-island/
END:VEVENT
BEGIN:VEVENT
DTSTART;TZID=America/New_York:20210503T170000
DTEND;TZID=America/New_York:20210503T170000
DTSTAMP:20260423T090352
CREATED:20210503T205925Z
LAST-MODIFIED:20210503T205925Z
UID:2096455-1620061200-1620061200@ocmannproperties.com
SUMMARY:Monday Deck Party at Fager's Island
DESCRIPTION:Stop by Fager’s Island in Ocean City\, Maryland on Monday\, May 3rd for the first Deck Party of the season. This event is the ‘unoffical’ start to the summer in Ocean City. There will be fun\, food\, drinks\, and live entertainment by Tranzfusion\, DJ Greg\, and DJ Robcee. Be sure to clear your evening plans because this is one party you won’t want to miss!
URL:https://ocmannproperties.com/event/monday-deck-party-at-fagers-island-2/
END:VEVENT
END:VCALENDAR