BEGIN:VCALENDAR
VERSION:2.0
PRODID:-//Ocean City MD Property Management - ECPv5.12.3//NONSGML v1.0//EN
CALSCALE:GREGORIAN
METHOD:PUBLISH
X-WR-CALNAME:Ocean City MD Property Management
X-ORIGINAL-URL:https://ocmannproperties.com
X-WR-CALDESC:Events for Ocean City MD Property Management
BEGIN:VTIMEZONE
TZID:America/New_York
BEGIN:DAYLIGHT
TZOFFSETFROM:-0500
TZOFFSETTO:-0400
TZNAME:EDT
DTSTART:20210314T070000
END:DAYLIGHT
BEGIN:STANDARD
TZOFFSETFROM:-0400
TZOFFSETTO:-0500
TZNAME:EST
DTSTART:20211107T060000
END:STANDARD
END:VTIMEZONE
BEGIN:VEVENT
DTSTART;TZID=America/New_York:20210511T160000
DTEND;TZID=America/New_York:20210511T200000
DTSTAMP:20260423T090459
CREATED:20210511T085913Z
LAST-MODIFIED:20210511T085913Z
UID:2096470-1620748800-1620763200@ocmannproperties.com
SUMMARY:Dave Hawkins & Joe Mama at Coconuts Bar & Grill
DESCRIPTION:Dave Hawkins & Joe Mama are performing live at the one-and-only Coconuts Bar and Grille in Ocean City\, Maryland. Coconuts Bar & Grille is known for amazing food-selections\, entertainment\, and more! Head over to this iconic location and see Dave Hawkins & Joe Mama put on a performance like no other! 
URL:https://ocmannproperties.com/event/dave-hawkins-joe-mama-at-coconuts-bar-grill/
END:VEVENT
BEGIN:VEVENT
DTSTART;TZID=America/New_York:20210511T160000
DTEND;TZID=America/New_York:20210511T200000
DTSTAMP:20260423T090459
CREATED:20210511T210037Z
LAST-MODIFIED:20210511T210037Z
UID:2096471-1620748800-1620763200@ocmannproperties.com
SUMMARY:Dave Hawkins & Joe Mama at Coconuts Bar & Grill
DESCRIPTION:Dave Hawkins & Joe Mama are performing live at the one-and-only Coconuts Bar and Grille in Ocean City\, Maryland. Coconuts Bar & Grille is known for amazing food-selections\, entertainment\, and more! Head over to this iconic location and see Dave Hawkins & Joe Mama put on a performance like no other! 
URL:https://ocmannproperties.com/event/dave-hawkins-joe-mama-at-coconuts-bar-grill-2/
END:VEVENT
END:VCALENDAR