BEGIN:VCALENDAR
VERSION:2.0
PRODID:-//Ocean City MD Property Management - ECPv5.12.3//NONSGML v1.0//EN
CALSCALE:GREGORIAN
METHOD:PUBLISH
X-WR-CALNAME:Ocean City MD Property Management
X-ORIGINAL-URL:https://ocmannproperties.com
X-WR-CALDESC:Events for Ocean City MD Property Management
BEGIN:VTIMEZONE
TZID:America/New_York
BEGIN:DAYLIGHT
TZOFFSETFROM:-0500
TZOFFSETTO:-0400
TZNAME:EDT
DTSTART:20210314T070000
END:DAYLIGHT
BEGIN:STANDARD
TZOFFSETFROM:-0400
TZOFFSETTO:-0500
TZNAME:EST
DTSTART:20211107T060000
END:STANDARD
END:VTIMEZONE
BEGIN:VEVENT
DTSTART;TZID=America/New_York:20210529T200000
DTEND;TZID=America/New_York:20210529T230000
DTSTAMP:20260423T090159
CREATED:20210529T090035Z
LAST-MODIFIED:20210529T090035Z
UID:2096506-1622318400-1622329200@ocmannproperties.com
SUMMARY:Old School Duo
DESCRIPTION:This Eastern Shore based band covers Classic Rock and R&B and more!  The band was started in 2010 with Linda Sears as lead vocals and Ray Perrone on drums.  Check out the Old School Duo at High Stakes Bar and Grill in Fenwick Island\, DE.
URL:https://ocmannproperties.com/event/old-school-duo/
END:VEVENT
BEGIN:VEVENT
DTSTART;TZID=America/New_York:20210529T200000
DTEND;TZID=America/New_York:20210529T230000
DTSTAMP:20260423T090159
CREATED:20210529T210058Z
LAST-MODIFIED:20210529T210058Z
UID:2096507-1622318400-1622329200@ocmannproperties.com
SUMMARY:Old School Duo
DESCRIPTION:This Eastern Shore based band covers Classic Rock and R&B and more!  The band was started in 2010 with Linda Sears as lead vocals and Ray Perrone on drums.  Check out the Old School Duo at High Stakes Bar and Grill in Fenwick Island\, DE.
URL:https://ocmannproperties.com/event/old-school-duo-2/
END:VEVENT
END:VCALENDAR