BEGIN:VCALENDAR
VERSION:2.0
PRODID:-//Ocean City MD Property Management - ECPv5.12.3//NONSGML v1.0//EN
CALSCALE:GREGORIAN
METHOD:PUBLISH
X-WR-CALNAME:Ocean City MD Property Management
X-ORIGINAL-URL:https://ocmannproperties.com
X-WR-CALDESC:Events for Ocean City MD Property Management
BEGIN:VTIMEZONE
TZID:America/New_York
BEGIN:DAYLIGHT
TZOFFSETFROM:-0500
TZOFFSETTO:-0400
TZNAME:EDT
DTSTART:20210314T070000
END:DAYLIGHT
BEGIN:STANDARD
TZOFFSETFROM:-0400
TZOFFSETTO:-0500
TZNAME:EST
DTSTART:20211107T060000
END:STANDARD
END:VTIMEZONE
BEGIN:VEVENT
DTSTART;TZID=America/New_York:20210531T100000
DTEND;TZID=America/New_York:20210531T160000
DTSTAMP:20260423T090345
CREATED:20210531T090223Z
LAST-MODIFIED:20210531T090223Z
UID:2096512-1622455200-1622476800@ocmannproperties.com
SUMMARY:Memorial Day Slot Tournament
DESCRIPTION:Club Ocean members get ready to play to win your share of $3\,000 Cash and Free Play at Ocean Downs Casino! \nEarn 250 points to Play on Monday\, May 31st from 10:00 am to 4:00 pm.  \n \n 
URL:https://ocmannproperties.com/event/memorial-day-slot-tournament/
END:VEVENT
BEGIN:VEVENT
DTSTART;TZID=America/New_York:20210531T100000
DTEND;TZID=America/New_York:20210531T160000
DTSTAMP:20260423T090345
CREATED:20210531T205821Z
LAST-MODIFIED:20210531T205821Z
UID:2096513-1622455200-1622476800@ocmannproperties.com
SUMMARY:Memorial Day Slot Tournament
DESCRIPTION:Club Ocean members get ready to play to win your share of $3\,000 Cash and Free Play at Ocean Downs Casino! \nEarn 250 points to Play on Monday\, May 31st from 10:00 am to 4:00 pm.  \n \n 
URL:https://ocmannproperties.com/event/memorial-day-slot-tournament-2/
END:VEVENT
END:VCALENDAR