BEGIN:VCALENDAR
VERSION:2.0
PRODID:-//Ocean City MD Property Management - ECPv5.12.3//NONSGML v1.0//EN
CALSCALE:GREGORIAN
METHOD:PUBLISH
X-WR-CALNAME:Ocean City MD Property Management
X-ORIGINAL-URL:https://ocmannproperties.com
X-WR-CALDESC:Events for Ocean City MD Property Management
BEGIN:VTIMEZONE
TZID:America/New_York
BEGIN:DAYLIGHT
TZOFFSETFROM:-0500
TZOFFSETTO:-0400
TZNAME:EDT
DTSTART:20210314T070000
END:DAYLIGHT
BEGIN:STANDARD
TZOFFSETFROM:-0400
TZOFFSETTO:-0500
TZNAME:EST
DTSTART:20211107T060000
END:STANDARD
END:VTIMEZONE
BEGIN:VEVENT
DTSTART;TZID=America/New_York:20210727T100000
DTEND;TZID=America/New_York:20210727T103000
DTSTAMP:20260423T140016
CREATED:20210727T085856Z
LAST-MODIFIED:20210727T085856Z
UID:2096638-1627380000-1627381800@ocmannproperties.com
SUMMARY:Beach Safety Summer Program
DESCRIPTION:Join the Ocean City Life Saving Station Museum and the Ocean City Beach Patrol every Tuesday at the Boardwalk Train Station. Learn all about how to be safe in Ocean City’s surf and even learn how to spell your name in semaphore! This program is free and open to the public. 
URL:https://ocmannproperties.com/event/beach-safety-summer-program-7/
END:VEVENT
BEGIN:VEVENT
DTSTART;TZID=America/New_York:20210727T100000
DTEND;TZID=America/New_York:20210727T103000
DTSTAMP:20260423T140016
CREATED:20210727T205848Z
LAST-MODIFIED:20210727T205848Z
UID:2096639-1627380000-1627381800@ocmannproperties.com
SUMMARY:Beach Safety Summer Program
DESCRIPTION:Join the Ocean City Life Saving Station Museum and the Ocean City Beach Patrol every Tuesday at the Boardwalk Train Station. Learn all about how to be safe in Ocean City’s surf and even learn how to spell your name in semaphore! This program is free and open to the public. 
URL:https://ocmannproperties.com/event/beach-safety-summer-program-8/
END:VEVENT
END:VCALENDAR