BEGIN:VCALENDAR
VERSION:2.0
PRODID:-//Ocean City MD Property Management - ECPv5.12.3//NONSGML v1.0//EN
CALSCALE:GREGORIAN
METHOD:PUBLISH
X-WR-CALNAME:Ocean City MD Property Management
X-ORIGINAL-URL:https://ocmannproperties.com
X-WR-CALDESC:Events for Ocean City MD Property Management
BEGIN:VTIMEZONE
TZID:America/New_York
BEGIN:DAYLIGHT
TZOFFSETFROM:-0500
TZOFFSETTO:-0400
TZNAME:EDT
DTSTART:20210314T070000
END:DAYLIGHT
BEGIN:STANDARD
TZOFFSETFROM:-0400
TZOFFSETTO:-0500
TZNAME:EST
DTSTART:20211107T060000
END:STANDARD
END:VTIMEZONE
BEGIN:VEVENT
DTSTART;TZID=America/New_York:20210825T093000
DTEND;TZID=America/New_York:20210825T170000
DTSTAMP:20260423T140016
CREATED:20210825T085823Z
LAST-MODIFIED:20210825T085823Z
UID:2096702-1629883800-1629910800@ocmannproperties.com
SUMMARY:Jeep 4 x 4 and Outdoor Jamboree
DESCRIPTION:Live Wire Media & Events presents Jeep 4 x 4 & Outdoor Jamboree\, if f you enjoy the outdoors\, 4 wheeling\, trails\, obstacle courses\, great music and generally like to have fun this event is for you!\n \nBring the kids and let them play in our open fields\, shop our vendors and listen to live bands. \n 
URL:https://ocmannproperties.com/event/jeep-4-x-4-and-outdoor-jamboree/
END:VEVENT
BEGIN:VEVENT
DTSTART;TZID=America/New_York:20210825T093000
DTEND;TZID=America/New_York:20210825T170000
DTSTAMP:20260423T140016
CREATED:20210825T205823Z
LAST-MODIFIED:20210825T205823Z
UID:2096703-1629883800-1629910800@ocmannproperties.com
SUMMARY:Jeep 4 x 4 and Outdoor Jamboree
DESCRIPTION:Live Wire Media & Events presents Jeep 4 x 4 & Outdoor Jamboree\, if f you enjoy the outdoors\, 4 wheeling\, trails\, obstacle courses\, great music and generally like to have fun this event is for you!\n \nBring the kids and let them play in our open fields\, shop our vendors and listen to live bands. \n 
URL:https://ocmannproperties.com/event/jeep-4-x-4-and-outdoor-jamboree-2/
END:VEVENT
END:VCALENDAR