BEGIN:VCALENDAR
VERSION:2.0
PRODID:-//Ocean City MD Property Management - ECPv5.12.3//NONSGML v1.0//EN
CALSCALE:GREGORIAN
METHOD:PUBLISH
X-WR-CALNAME:Ocean City MD Property Management
X-ORIGINAL-URL:https://ocmannproperties.com
X-WR-CALDESC:Events for Ocean City MD Property Management
BEGIN:VTIMEZONE
TZID:America/New_York
BEGIN:DAYLIGHT
TZOFFSETFROM:-0500
TZOFFSETTO:-0400
TZNAME:EDT
DTSTART:20210314T070000
END:DAYLIGHT
BEGIN:STANDARD
TZOFFSETFROM:-0400
TZOFFSETTO:-0500
TZNAME:EST
DTSTART:20211107T060000
END:STANDARD
END:VTIMEZONE
BEGIN:VEVENT
DTSTART;TZID=America/New_York:20210827T000000
DTEND;TZID=America/New_York:20210827T000000
DTSTAMP:20260423T140015
CREATED:20210827T210042Z
LAST-MODIFIED:20210827T210042Z
UID:2096707-1630022400-1630022400@ocmannproperties.com
SUMMARY:DJ Wax
DESCRIPTION:Come party at Buxy’s Salty Dog Saloon in midtown Ocean City\, Maryland with DJ Wax! DJ Wax’s set will start right at 1000  pm featuring all your favorite dance hits.  Bring a friend and have some fun with DJ Wax!
URL:https://ocmannproperties.com/event/dj-wax/
END:VEVENT
BEGIN:VEVENT
DTSTART;TZID=America/New_York:20210827T093000
DTEND;TZID=America/New_York:20210827T180000
DTSTAMP:20260423T140015
CREATED:20210827T090027Z
LAST-MODIFIED:20210827T090027Z
UID:2096706-1630056600-1630087200@ocmannproperties.com
SUMMARY:Jeep 4 x 4 and Outdoor Jamboree
DESCRIPTION:Live Wire Media & Events presents Jeep 4 x 4 & Outdoor Jamboree\, if f you enjoy the outdoors\, 4 wheeling\, trails\, obstacle courses\, great music and generally like to have fun this event is for you!\n \nBring the kids and let them play in our open fields\, shop our vendors and listen to live bands. \n 
URL:https://ocmannproperties.com/event/jeep-4-x-4-and-outdoor-jamboree-3/
END:VEVENT
END:VCALENDAR