BEGIN:VCALENDAR
VERSION:2.0
PRODID:-//Ocean City MD Property Management - ECPv5.12.3//NONSGML v1.0//EN
CALSCALE:GREGORIAN
METHOD:PUBLISH
X-WR-CALNAME:Ocean City MD Property Management
X-ORIGINAL-URL:https://ocmannproperties.com
X-WR-CALDESC:Events for Ocean City MD Property Management
BEGIN:VTIMEZONE
TZID:America/New_York
BEGIN:DAYLIGHT
TZOFFSETFROM:-0500
TZOFFSETTO:-0400
TZNAME:EDT
DTSTART:20210314T070000
END:DAYLIGHT
BEGIN:STANDARD
TZOFFSETFROM:-0400
TZOFFSETTO:-0500
TZNAME:EST
DTSTART:20211107T060000
END:STANDARD
END:VTIMEZONE
BEGIN:VEVENT
DTSTART;TZID=America/New_York:20210921T160000
DTEND;TZID=America/New_York:20210921T200000
DTSTAMP:20260423T154547
CREATED:20210921T085925Z
LAST-MODIFIED:20210921T085925Z
UID:2096762-1632240000-1632254400@ocmannproperties.com
SUMMARY:Chasing Autumn Band
DESCRIPTION:Are you in for a treat!  Chasing Autumn plays acoustic duet style songs from their extensive song list at the Skye Bar and Grille this afternoon starting at 4pm.  Happy Hour at the bar is from 3 pm to 6pm so come early for cocktails and a great dinner. 
URL:https://ocmannproperties.com/event/chasing-autumn-band/
END:VEVENT
BEGIN:VEVENT
DTSTART;TZID=America/New_York:20210921T160000
DTEND;TZID=America/New_York:20210921T200000
DTSTAMP:20260423T154547
CREATED:20210921T210124Z
LAST-MODIFIED:20210921T210124Z
UID:2096763-1632240000-1632254400@ocmannproperties.com
SUMMARY:Chasing Autumn Band
DESCRIPTION:Are you in for a treat!  Chasing Autumn plays acoustic duet style songs from their extensive song list at the Skye Bar and Grille this afternoon starting at 4pm.  Happy Hour at the bar is from 3 pm to 6pm so come early for cocktails and a great dinner. 
URL:https://ocmannproperties.com/event/chasing-autumn-band-2/
END:VEVENT
END:VCALENDAR