BEGIN:VCALENDAR
VERSION:2.0
PRODID:-//Ocean City MD Property Management - ECPv5.12.3//NONSGML v1.0//EN
CALSCALE:GREGORIAN
METHOD:PUBLISH
X-WR-CALNAME:Ocean City MD Property Management
X-ORIGINAL-URL:https://ocmannproperties.com
X-WR-CALDESC:Events for Ocean City MD Property Management
BEGIN:VTIMEZONE
TZID:America/New_York
BEGIN:DAYLIGHT
TZOFFSETFROM:-0500
TZOFFSETTO:-0400
TZNAME:EDT
DTSTART:20210314T070000
END:DAYLIGHT
BEGIN:STANDARD
TZOFFSETFROM:-0400
TZOFFSETTO:-0500
TZNAME:EST
DTSTART:20211107T060000
END:STANDARD
END:VTIMEZONE
BEGIN:VEVENT
DTSTART;TZID=America/New_York:20210926T110000
DTEND;TZID=America/New_York:20210926T110000
DTSTAMP:20260423T154547
CREATED:20210926T085912Z
LAST-MODIFIED:20210926T085912Z
UID:2096773-1632654000-1632654000@ocmannproperties.com
SUMMARY:NFL Football at the Sports Bar
DESCRIPTION:It’s game day and your favorite NFL team is playing!  Get here early; with NFL Sunday Ticket\, the front row seat is yours!  Harpoon Hanna’s Tiki Bar is the perfect spot to relax and chill and watch the boats go by while you enjoy a cold craft beer or a frozen drink.  See you Sunday! \n 
URL:https://ocmannproperties.com/event/nfl-football-at-the-sports-bar/
END:VEVENT
BEGIN:VEVENT
DTSTART;TZID=America/New_York:20210926T110000
DTEND;TZID=America/New_York:20210926T110000
DTSTAMP:20260423T154547
CREATED:20210926T205930Z
LAST-MODIFIED:20210926T205930Z
UID:2096774-1632654000-1632654000@ocmannproperties.com
SUMMARY:NFL Football at the Sports Bar
DESCRIPTION:It’s game day and your favorite NFL team is playing!  Get here early; with NFL Sunday Ticket\, the front row seat is yours!  Harpoon Hanna’s Tiki Bar is the perfect spot to relax and chill and watch the boats go by while you enjoy a cold craft beer or a frozen drink.  See you Sunday! \n 
URL:https://ocmannproperties.com/event/nfl-football-at-the-sports-bar-2/
END:VEVENT
END:VCALENDAR