BEGIN:VCALENDAR
VERSION:2.0
PRODID:-//Ocean City MD Property Management - ECPv5.12.3//NONSGML v1.0//EN
CALSCALE:GREGORIAN
METHOD:PUBLISH
X-WR-CALNAME:Ocean City MD Property Management
X-ORIGINAL-URL:https://ocmannproperties.com
X-WR-CALDESC:Events for Ocean City MD Property Management
BEGIN:VTIMEZONE
TZID:America/New_York
BEGIN:DAYLIGHT
TZOFFSETFROM:-0500
TZOFFSETTO:-0400
TZNAME:EDT
DTSTART:20210314T070000
END:DAYLIGHT
BEGIN:STANDARD
TZOFFSETFROM:-0400
TZOFFSETTO:-0500
TZNAME:EST
DTSTART:20211107T060000
END:STANDARD
END:VTIMEZONE
BEGIN:VEVENT
DTSTART;TZID=America/New_York:20210927T160000
DTEND;TZID=America/New_York:20210927T200000
DTSTAMP:20260423T154509
CREATED:20210927T085840Z
LAST-MODIFIED:20210927T085840Z
UID:2096775-1632758400-1632772800@ocmannproperties.com
SUMMARY:Aaron Howell Live
DESCRIPTION:Forming as a result to various jam sessions and guest appearances at Aaron’s solo shows\, The Aaron Howell Band has become one of the Ocean City area’s top local draws.  Playing a more rock-heavy set\, Bob and Adam lay down the rhythm while Aaron turns your head with his bluesy guitar leads\, dynamic vocal work\, and incredible stage presence.\n \nMake sure you come for Happy Hour at Skye Bar from 3-6pm! Raw bar Happy Hour specials include $1 oysters and 1 1/4lb. lobster for $23. Drink specials include $5.00 Smirnoff Crushes\, $3.75 Rails\, $1 off Drafts\, and $5 House Wines.
URL:https://ocmannproperties.com/event/aaron-howell-live/
END:VEVENT
BEGIN:VEVENT
DTSTART;TZID=America/New_York:20210927T160000
DTEND;TZID=America/New_York:20210927T200000
DTSTAMP:20260423T154509
CREATED:20210927T205904Z
LAST-MODIFIED:20210927T205904Z
UID:2096776-1632758400-1632772800@ocmannproperties.com
SUMMARY:Aaron Howell Live
DESCRIPTION:Forming as a result to various jam sessions and guest appearances at Aaron’s solo shows\, The Aaron Howell Band has become one of the Ocean City area’s top local draws.  Playing a more rock-heavy set\, Bob and Adam lay down the rhythm while Aaron turns your head with his bluesy guitar leads\, dynamic vocal work\, and incredible stage presence.\n \nMake sure you come for Happy Hour at Skye Bar from 3-6pm! Raw bar Happy Hour specials include $1 oysters and 1 1/4lb. lobster for $23. Drink specials include $5.00 Smirnoff Crushes\, $3.75 Rails\, $1 off Drafts\, and $5 House Wines.
URL:https://ocmannproperties.com/event/aaron-howell-live-2/
END:VEVENT
END:VCALENDAR