BEGIN:VCALENDAR
VERSION:2.0
PRODID:-//Ocean City MD Property Management - ECPv5.12.3//NONSGML v1.0//EN
CALSCALE:GREGORIAN
METHOD:PUBLISH
X-WR-CALNAME:Ocean City MD Property Management
X-ORIGINAL-URL:https://ocmannproperties.com
X-WR-CALDESC:Events for Ocean City MD Property Management
BEGIN:VTIMEZONE
TZID:America/New_York
BEGIN:DAYLIGHT
TZOFFSETFROM:-0500
TZOFFSETTO:-0400
TZNAME:EDT
DTSTART:20210314T070000
END:DAYLIGHT
BEGIN:STANDARD
TZOFFSETFROM:-0400
TZOFFSETTO:-0500
TZNAME:EST
DTSTART:20211107T060000
END:STANDARD
END:VTIMEZONE
BEGIN:VEVENT
DTSTART;TZID=America/New_York:20210929T110000
DTEND;TZID=America/New_York:20210929T140000
DTSTAMP:20260423T154442
CREATED:20210929T085835Z
LAST-MODIFIED:20210929T085835Z
UID:2096779-1632913200-1632924000@ocmannproperties.com
SUMMARY:Chauffeured Vineyard Foodie Tour
DESCRIPTION:Meet your guide at “Waves”\, an Ocean City Boardwalk themed eatery located inside Ocean Downs in Berlin MD. Enjoy a legendary OC treat while you travel in style on a Limo-Bus to Box Car 40 for tastings of fresh homemade cuisine prepared by gourmet chef & Culinary professor\, Paule Suplee.\n\nYour voyage continues to Costa Ventosa Vineyards and Microbrewery where you will discover why after over 25 years this state trooper decided to retire\, create a vineyard\, and open a winery. Increase your beer and wine knowledge in the tasting room.\n\nYour adventure continues to Poseidon’s Pub for more delicious flavors. During this culinary journey you will learn local history of Ocean City & Berlin along with fun facts about the area and the people who started here. Enjoy “free play voucher” at Ocean Downs after the tour. \n\n~ 3 Hour Culinary Tour\n~ 3 Tasting at Each Location\n~ Includes “free play” at Ocean Downs Casino 
URL:https://ocmannproperties.com/event/chauffeured-vineyard-foodie-tour-2/
END:VEVENT
BEGIN:VEVENT
DTSTART;TZID=America/New_York:20210929T110000
DTEND;TZID=America/New_York:20210929T140000
DTSTAMP:20260423T154442
CREATED:20210929T205956Z
LAST-MODIFIED:20210929T205956Z
UID:2096780-1632913200-1632924000@ocmannproperties.com
SUMMARY:Chauffeured Vineyard Foodie Tour
DESCRIPTION:Meet your guide at “Waves”\, an Ocean City Boardwalk themed eatery located inside Ocean Downs in Berlin MD. Enjoy a legendary OC treat while you travel in style on a Limo-Bus to Box Car 40 for tastings of fresh homemade cuisine prepared by gourmet chef & Culinary professor\, Paule Suplee.\n\nYour voyage continues to Costa Ventosa Vineyards and Microbrewery where you will discover why after over 25 years this state trooper decided to retire\, create a vineyard\, and open a winery. Increase your beer and wine knowledge in the tasting room.\n\nYour adventure continues to Poseidon’s Pub for more delicious flavors. During this culinary journey you will learn local history of Ocean City & Berlin along with fun facts about the area and the people who started here. Enjoy “free play voucher” at Ocean Downs after the tour. \n\n~ 3 Hour Culinary Tour\n~ 3 Tasting at Each Location\n~ Includes “free play” at Ocean Downs Casino 
URL:https://ocmannproperties.com/event/chauffeured-vineyard-foodie-tour-3/
END:VEVENT
END:VCALENDAR