BEGIN:VCALENDAR
VERSION:2.0
PRODID:-//Ocean City MD Property Management - ECPv5.12.3//NONSGML v1.0//EN
CALSCALE:GREGORIAN
METHOD:PUBLISH
X-WR-CALNAME:Ocean City MD Property Management
X-ORIGINAL-URL:https://ocmannproperties.com
X-WR-CALDESC:Events for Ocean City MD Property Management
BEGIN:VTIMEZONE
TZID:America/New_York
BEGIN:DAYLIGHT
TZOFFSETFROM:-0500
TZOFFSETTO:-0400
TZNAME:EDT
DTSTART:20210314T070000
END:DAYLIGHT
BEGIN:STANDARD
TZOFFSETFROM:-0400
TZOFFSETTO:-0500
TZNAME:EST
DTSTART:20211107T060000
END:STANDARD
END:VTIMEZONE
BEGIN:VEVENT
DTSTART;TZID=America/New_York:20211004T130000
DTEND;TZID=America/New_York:20211004T160000
DTSTAMP:20260423T172328
CREATED:20211004T085828Z
LAST-MODIFIED:20211004T085828Z
UID:2096789-1633352400-1633363200@ocmannproperties.com
SUMMARY:Shore Craft Beer Fest
DESCRIPTION:Get your feet in the sand.. for the first annual Shore Craft Beer Fest; Beer on the Beach at the Jellyfish Festival Labor Day weekend.  Enjoy your feet in the sand\, live music by a bunch of great bands and unlimited 4 ounce pours of 25 plus kinds of beer at the festival.  \n \nVIP tickets: $65\nGeneral Admission: $45\nDesignated Driver: $10\n \nArrive early; the first 1\,000 ticket holders to arrive will receive one of the limited edition souvenir glasses at the door!
URL:https://ocmannproperties.com/event/shore-craft-beer-fest/
END:VEVENT
BEGIN:VEVENT
DTSTART;TZID=America/New_York:20211004T130000
DTEND;TZID=America/New_York:20211004T160000
DTSTAMP:20260423T172328
CREATED:20211004T210040Z
LAST-MODIFIED:20211004T210040Z
UID:2096790-1633352400-1633363200@ocmannproperties.com
SUMMARY:Shore Craft Beer Fest
DESCRIPTION:Get your feet in the sand.. for the first annual Shore Craft Beer Fest; Beer on the Beach at the Jellyfish Festival Labor Day weekend.  Enjoy your feet in the sand\, live music by a bunch of great bands and unlimited 4 ounce pours of 25 plus kinds of beer at the festival.  \n \nVIP tickets: $65\nGeneral Admission: $45\nDesignated Driver: $10\n \nArrive early; the first 1\,000 ticket holders to arrive will receive one of the limited edition souvenir glasses at the door!
URL:https://ocmannproperties.com/event/shore-craft-beer-fest-2/
END:VEVENT
END:VCALENDAR