BEGIN:VCALENDAR
VERSION:2.0
PRODID:-//Ocean City MD Property Management - ECPv5.12.3//NONSGML v1.0//EN
CALSCALE:GREGORIAN
METHOD:PUBLISH
X-WR-CALNAME:Ocean City MD Property Management
X-ORIGINAL-URL:https://ocmannproperties.com
X-WR-CALDESC:Events for Ocean City MD Property Management
BEGIN:VTIMEZONE
TZID:America/New_York
BEGIN:DAYLIGHT
TZOFFSETFROM:-0500
TZOFFSETTO:-0400
TZNAME:EDT
DTSTART:20210314T070000
END:DAYLIGHT
BEGIN:STANDARD
TZOFFSETFROM:-0400
TZOFFSETTO:-0500
TZNAME:EST
DTSTART:20211107T060000
END:STANDARD
END:VTIMEZONE
BEGIN:VEVENT
DTSTART;VALUE=DATE:20211015
DTEND;VALUE=DATE:20211016
DTSTAMP:20260423T172413
CREATED:20211015T090143Z
LAST-MODIFIED:20211015T090143Z
UID:2096811-1634256000-1634342399@ocmannproperties.com
SUMMARY:Free State Corvette Weekend & Boardwalk Parade
DESCRIPTION:Great annual event for Corvette enthusiasts and owners. This is the largest Corvette Club sponsored event on the East Coast of the United States with over 1200 Corvette enthusiasts attending from Canada to Florida.  This event includes car shows\, road rallies and parade other fun activities.\n \n For more information visit  http://www.freestatecorvette.com/ or email pr@freestatecorvette.com
URL:https://ocmannproperties.com/event/free-state-corvette-weekend-boardwalk-parade-3/
END:VEVENT
BEGIN:VEVENT
DTSTART;VALUE=DATE:20211015
DTEND;VALUE=DATE:20211016
DTSTAMP:20260423T172413
CREATED:20211015T210241Z
LAST-MODIFIED:20211015T210241Z
UID:2096812-1634256000-1634342399@ocmannproperties.com
SUMMARY:Free State Corvette Weekend & Boardwalk Parade
DESCRIPTION:Great annual event for Corvette enthusiasts and owners. This is the largest Corvette Club sponsored event on the East Coast of the United States with over 1200 Corvette enthusiasts attending from Canada to Florida.  This event includes car shows\, road rallies and parade other fun activities.\n \n For more information visit  http://www.freestatecorvette.com/ or email pr@freestatecorvette.com
URL:https://ocmannproperties.com/event/free-state-corvette-weekend-boardwalk-parade-4/
END:VEVENT
END:VCALENDAR