BEGIN:VCALENDAR
VERSION:2.0
PRODID:-//Ocean City MD Property Management - ECPv5.12.3//NONSGML v1.0//EN
CALSCALE:GREGORIAN
METHOD:PUBLISH
X-WR-CALNAME:Ocean City MD Property Management
X-ORIGINAL-URL:https://ocmannproperties.com
X-WR-CALDESC:Events for Ocean City MD Property Management
BEGIN:VTIMEZONE
TZID:America/New_York
BEGIN:DAYLIGHT
TZOFFSETFROM:-0500
TZOFFSETTO:-0400
TZNAME:EDT
DTSTART:20210314T070000
END:DAYLIGHT
BEGIN:STANDARD
TZOFFSETFROM:-0400
TZOFFSETTO:-0500
TZNAME:EST
DTSTART:20211107T060000
END:STANDARD
END:VTIMEZONE
BEGIN:VEVENT
DTSTART;TZID=America/New_York:20211016T000000
DTEND;TZID=America/New_York:20211016T000000
DTSTAMP:20260423T172403
CREATED:20211016T090818Z
LAST-MODIFIED:20211016T090818Z
UID:2096813-1634342400-1634342400@ocmannproperties.com
SUMMARY:Robin and the Hoods
DESCRIPTION:Robin and the Hoods; classic Rock band; from the NY area are playing a full set of covers and originals at High Stakes Bar & Grille in Fenwick Island DE while the bar serves up crushes\, craft beer and your favorite cocktails. \n 
URL:https://ocmannproperties.com/event/robin-and-the-hoods/
END:VEVENT
BEGIN:VEVENT
DTSTART;TZID=America/New_York:20211016T000000
DTEND;TZID=America/New_York:20211016T000000
DTSTAMP:20260423T172403
CREATED:20211016T205907Z
LAST-MODIFIED:20211016T205907Z
UID:2096814-1634342400-1634342400@ocmannproperties.com
SUMMARY:Robin and the Hoods
DESCRIPTION:Robin and the Hoods; classic Rock band; from the NY area are playing a full set of covers and originals at High Stakes Bar & Grille in Fenwick Island DE while the bar serves up crushes\, craft beer and your favorite cocktails. \n 
URL:https://ocmannproperties.com/event/robin-and-the-hoods-2/
END:VEVENT
END:VCALENDAR