BEGIN:VCALENDAR
VERSION:2.0
PRODID:-//Ocean City MD Property Management - ECPv5.12.3//NONSGML v1.0//EN
CALSCALE:GREGORIAN
METHOD:PUBLISH
X-WR-CALNAME:Ocean City MD Property Management
X-ORIGINAL-URL:https://ocmannproperties.com
X-WR-CALDESC:Events for Ocean City MD Property Management
BEGIN:VTIMEZONE
TZID:America/New_York
BEGIN:DAYLIGHT
TZOFFSETFROM:-0500
TZOFFSETTO:-0400
TZNAME:EDT
DTSTART:20210314T070000
END:DAYLIGHT
BEGIN:STANDARD
TZOFFSETFROM:-0400
TZOFFSETTO:-0500
TZNAME:EST
DTSTART:20211107T060000
END:STANDARD
END:VTIMEZONE
BEGIN:VEVENT
DTSTART;TZID=America/New_York:20211205T100000
DTEND;TZID=America/New_York:20211205T170000
DTSTAMP:20260423T191810
CREATED:20211205T085931Z
LAST-MODIFIED:20211205T085931Z
UID:2096913-1638698400-1638723600@ocmannproperties.com
SUMMARY:Holiday Open House
DESCRIPTION: Join us for our annual Holiday Open House on Sunday\, December 5th from 10:00 am to 5:00 pm. Families and friends can tour the museum with FREE admission and take part in our lineup of festivities! \n \n\n ~Mr. & Mrs. Clause will be at the museum from 1:00 to 4:00 pm. \n \n ~Enjoy our Nautical Ornament Making Station – youth and adults can make their very own nautical ornament! \n \n ~Story Time will take place at noon with local author Katherine Ruskey reading The A B Seas of Ocean City. \n \n ~Shop local\, in our museum store\, and take advantage of our one-day-only Red Tag Sale. Items tagged red are 25%      off! 
URL:https://ocmannproperties.com/event/holiday-open-house-3/
END:VEVENT
BEGIN:VEVENT
DTSTART;TZID=America/New_York:20211205T100000
DTEND;TZID=America/New_York:20211205T170000
DTSTAMP:20260423T191810
CREATED:20211205T210112Z
LAST-MODIFIED:20211205T210112Z
UID:2096914-1638698400-1638723600@ocmannproperties.com
SUMMARY:Holiday Open House
DESCRIPTION: Join us for our annual Holiday Open House on Sunday\, December 5th from 10:00 am to 5:00 pm. Families and friends can tour the museum with FREE admission and take part in our lineup of festivities! \n \n\n ~Mr. & Mrs. Clause will be at the museum from 1:00 to 4:00 pm. \n \n ~Enjoy our Nautical Ornament Making Station – youth and adults can make their very own nautical ornament! \n \n ~Story Time will take place at noon with local author Katherine Ruskey reading The A B Seas of Ocean City. \n \n ~Shop local\, in our museum store\, and take advantage of our one-day-only Red Tag Sale. Items tagged red are 25%      off! 
URL:https://ocmannproperties.com/event/holiday-open-house-4/
END:VEVENT
END:VCALENDAR