BEGIN:VCALENDAR
VERSION:2.0
PRODID:-//Ocean City MD Property Management - ECPv5.12.3//NONSGML v1.0//EN
CALSCALE:GREGORIAN
METHOD:PUBLISH
X-WR-CALNAME:Ocean City MD Property Management
X-ORIGINAL-URL:https://ocmannproperties.com
X-WR-CALDESC:Events for Ocean City MD Property Management
BEGIN:VTIMEZONE
TZID:America/New_York
BEGIN:DAYLIGHT
TZOFFSETFROM:-0500
TZOFFSETTO:-0400
TZNAME:EDT
DTSTART:20210314T070000
END:DAYLIGHT
BEGIN:STANDARD
TZOFFSETFROM:-0400
TZOFFSETTO:-0500
TZNAME:EST
DTSTART:20211107T060000
END:STANDARD
END:VTIMEZONE
BEGIN:VEVENT
DTSTART;TZID=America/New_York:20211213T103000
DTEND;TZID=America/New_York:20211213T113000
DTSTAMP:20260423T210210
CREATED:20211213T090859Z
LAST-MODIFIED:20211213T090859Z
UID:2096930-1639391400-1639395000@ocmannproperties.com
SUMMARY:Little Learners Program
DESCRIPTION:Join us and get in the groove with our special guest Music Teacher Ms. Joanna Cross! Little Learners who attend\, will get to play different instruments all while harmonizing to the song Frosty the Snow Man! We will follow up our music session with assembling a winter wonderland craft.  This program is designed for children ages 0 to 5 years of age\, but all are welcome.
URL:https://ocmannproperties.com/event/little-learners-program-58/
END:VEVENT
BEGIN:VEVENT
DTSTART;TZID=America/New_York:20211213T103000
DTEND;TZID=America/New_York:20211213T113000
DTSTAMP:20260423T210210
CREATED:20211213T205835Z
LAST-MODIFIED:20211213T205835Z
UID:2096931-1639391400-1639395000@ocmannproperties.com
SUMMARY:Little Learners Program
DESCRIPTION:Join us and get in the groove with our special guest Music Teacher Ms. Joanna Cross! Little Learners who attend\, will get to play different instruments all while harmonizing to the song Frosty the Snow Man! We will follow up our music session with assembling a winter wonderland craft.  This program is designed for children ages 0 to 5 years of age\, but all are welcome.
URL:https://ocmannproperties.com/event/little-learners-program-59/
END:VEVENT
END:VCALENDAR