BEGIN:VCALENDAR
VERSION:2.0
PRODID:-//Ocean City MD Property Management - ECPv5.12.3//NONSGML v1.0//EN
CALSCALE:GREGORIAN
METHOD:PUBLISH
X-WR-CALNAME:Ocean City MD Property Management
X-ORIGINAL-URL:https://ocmannproperties.com
X-WR-CALDESC:Events for Ocean City MD Property Management
BEGIN:VTIMEZONE
TZID:America/New_York
BEGIN:DAYLIGHT
TZOFFSETFROM:-0500
TZOFFSETTO:-0400
TZNAME:EDT
DTSTART:20210314T070000
END:DAYLIGHT
BEGIN:STANDARD
TZOFFSETFROM:-0400
TZOFFSETTO:-0500
TZNAME:EST
DTSTART:20211107T060000
END:STANDARD
END:VTIMEZONE
BEGIN:VEVENT
DTSTART;TZID=America/New_York:20211224T170000
DTEND;TZID=America/New_York:20211224T210000
DTSTAMP:20260423T211004
CREATED:20211224T090002Z
LAST-MODIFIED:20211224T090002Z
UID:2096952-1640365200-1640379600@ocmannproperties.com
SUMMARY:Phil Perdue - "The Piano Man"
DESCRIPTION:Enjoy Phil Perdue “The Piano Man” on the grand piano at the Captain’s Table in Ocean City\, Maryland.  Enjoy fine dining at its best with famous crab cakes and great selection from the bar.  
URL:https://ocmannproperties.com/event/phil-perdue-the-piano-man-5/
END:VEVENT
BEGIN:VEVENT
DTSTART;TZID=America/New_York:20211224T170000
DTEND;TZID=America/New_York:20211224T210000
DTSTAMP:20260423T211004
CREATED:20211224T210114Z
LAST-MODIFIED:20211224T210114Z
UID:2096953-1640365200-1640379600@ocmannproperties.com
SUMMARY:Phil Perdue - "The Piano Man"
DESCRIPTION:Enjoy Phil Perdue “The Piano Man” on the grand piano at the Captain’s Table in Ocean City\, Maryland.  Enjoy fine dining at its best with famous crab cakes and great selection from the bar.  
URL:https://ocmannproperties.com/event/phil-perdue-the-piano-man-6/
END:VEVENT
END:VCALENDAR