BEGIN:VCALENDAR
VERSION:2.0
PRODID:-//Ocean City MD Property Management - ECPv5.12.3//NONSGML v1.0//EN
CALSCALE:GREGORIAN
METHOD:PUBLISH
X-WR-CALNAME:Ocean City MD Property Management
X-ORIGINAL-URL:https://ocmannproperties.com
X-WR-CALDESC:Events for Ocean City MD Property Management
BEGIN:VTIMEZONE
TZID:America/New_York
BEGIN:DAYLIGHT
TZOFFSETFROM:-0500
TZOFFSETTO:-0400
TZNAME:EDT
DTSTART:20220313T070000
END:DAYLIGHT
BEGIN:STANDARD
TZOFFSETFROM:-0400
TZOFFSETTO:-0500
TZNAME:EST
DTSTART:20221106T060000
END:STANDARD
END:VTIMEZONE
BEGIN:VEVENT
DTSTART;TZID=America/New_York:20220106T170000
DTEND;TZID=America/New_York:20220106T190000
DTSTAMP:20260425T195739
CREATED:20220106T090523Z
LAST-MODIFIED:20220106T090523Z
UID:2096978-1641488400-1641495600@ocmannproperties.com
SUMMARY:Blackjack Tournament Thursday
DESCRIPTION:There is a Blackjack Tournament every Thursday in January at the Casino at Ocean Downs that you do not want to miss out on.  Registration is free; and runs from 5pm to 7pm with the Tournament beginning at 7pm for the first 48 registrants (tournament is limited to 48).   Come out to play for your share of $1\,000 Cash!  \n \nPrizes:\n\n1st Place: $500 • 2nd Place: $350 • 3rd Place: $150
URL:https://ocmannproperties.com/event/blackjack-tournament-thursday/
END:VEVENT
BEGIN:VEVENT
DTSTART;TZID=America/New_York:20220106T170000
DTEND;TZID=America/New_York:20220106T190000
DTSTAMP:20260425T195739
CREATED:20220106T210102Z
LAST-MODIFIED:20220106T210102Z
UID:2096979-1641488400-1641495600@ocmannproperties.com
SUMMARY:Blackjack Tournament Thursday
DESCRIPTION:There is a Blackjack Tournament every Thursday in January at the Casino at Ocean Downs that you do not want to miss out on.  Registration is free; and runs from 5pm to 7pm with the Tournament beginning at 7pm for the first 48 registrants (tournament is limited to 48).   Come out to play for your share of $1\,000 Cash!  \n \nPrizes:\n\n1st Place: $500 • 2nd Place: $350 • 3rd Place: $150
URL:https://ocmannproperties.com/event/blackjack-tournament-thursday-2/
END:VEVENT
END:VCALENDAR