BEGIN:VCALENDAR
VERSION:2.0
PRODID:-//Ocean City MD Property Management - ECPv5.12.3//NONSGML v1.0//EN
CALSCALE:GREGORIAN
METHOD:PUBLISH
X-WR-CALNAME:Ocean City MD Property Management
X-ORIGINAL-URL:https://ocmannproperties.com
X-WR-CALDESC:Events for Ocean City MD Property Management
BEGIN:VTIMEZONE
TZID:America/New_York
BEGIN:DAYLIGHT
TZOFFSETFROM:-0500
TZOFFSETTO:-0400
TZNAME:EDT
DTSTART:20220313T070000
END:DAYLIGHT
BEGIN:STANDARD
TZOFFSETFROM:-0400
TZOFFSETTO:-0500
TZNAME:EST
DTSTART:20221106T060000
END:STANDARD
END:VTIMEZONE
BEGIN:VEVENT
DTSTART;TZID=America/New_York:20220513T093000
DTEND;TZID=America/New_York:20220513T123000
DTSTAMP:20260424T072414
CREATED:20220513T090636Z
LAST-MODIFIED:20220513T090636Z
UID:2097247-1652434200-1652445000@ocmannproperties.com
SUMMARY:In - Person: The New Thing - Neurographic Creations
DESCRIPTION:Neurographic Art was created in 2004 by a Russian psychologist \nHe found that when we draw using neurographic algorithms it helps us engage the neurons of the brain. This creative approach to drawing helps you find inner peace and transforms stress to calmness. During this class you will learn to create beautiful patterns using circle and curved lines. Watercolor is used to add color and depth to the drawing. It’s fun\, easy and relaxing.\n\n\nPlease bring your own supplies\n\nWatercolors and brushes\n140 lb. Watercolor paper\nBlack fine point sharpie and black extra fine sharpie.\n\nCost: $35 Members\, $44 Non-Members
URL:https://ocmannproperties.com/event/in-person-the-new-thing-neurographic-creations/
END:VEVENT
BEGIN:VEVENT
DTSTART;TZID=America/New_York:20220513T093000
DTEND;TZID=America/New_York:20220513T123000
DTSTAMP:20260424T072414
CREATED:20220513T211327Z
LAST-MODIFIED:20220513T211327Z
UID:2097248-1652434200-1652445000@ocmannproperties.com
SUMMARY:In - Person: The New Thing - Neurographic Creations
DESCRIPTION:Neurographic Art was created in 2004 by a Russian psychologist \nHe found that when we draw using neurographic algorithms it helps us engage the neurons of the brain. This creative approach to drawing helps you find inner peace and transforms stress to calmness. During this class you will learn to create beautiful patterns using circle and curved lines. Watercolor is used to add color and depth to the drawing. It’s fun\, easy and relaxing.\n\n\nPlease bring your own supplies\n\nWatercolors and brushes\n140 lb. Watercolor paper\nBlack fine point sharpie and black extra fine sharpie.\n\nCost: $35 Members\, $44 Non-Members
URL:https://ocmannproperties.com/event/in-person-the-new-thing-neurographic-creations-2/
END:VEVENT
END:VCALENDAR