BEGIN:VCALENDAR
VERSION:2.0
PRODID:-//Ocean City MD Property Management - ECPv5.12.3//NONSGML v1.0//EN
CALSCALE:GREGORIAN
METHOD:PUBLISH
X-WR-CALNAME:Ocean City MD Property Management
X-ORIGINAL-URL:https://ocmannproperties.com
X-WR-CALDESC:Events for Ocean City MD Property Management
BEGIN:VTIMEZONE
TZID:America/New_York
BEGIN:DAYLIGHT
TZOFFSETFROM:-0500
TZOFFSETTO:-0400
TZNAME:EDT
DTSTART:20220313T070000
END:DAYLIGHT
BEGIN:STANDARD
TZOFFSETFROM:-0400
TZOFFSETTO:-0500
TZNAME:EST
DTSTART:20221106T060000
END:STANDARD
END:VTIMEZONE
BEGIN:VEVENT
DTSTART;TZID=America/New_York:20220519T080000
DTEND;TZID=America/New_York:20220519T093000
DTSTAMP:20260424T072355
CREATED:20220519T085902Z
LAST-MODIFIED:20220519T085902Z
UID:2097259-1652947200-1652952600@ocmannproperties.com
SUMMARY:Cruisin' Ocean City Boardwalk Parade
DESCRIPTION:Bring your camera and come see the cool cars Cruisin’ down the Ocean City\, Maryland boardwalk! With over 2\,000 unique vehicles including Rods\, Customs\, Classics and Trick Trucks! 
URL:https://ocmannproperties.com/event/cruisin-ocean-city-boardwalk-parade/
END:VEVENT
BEGIN:VEVENT
DTSTART;TZID=America/New_York:20220519T080000
DTEND;TZID=America/New_York:20220519T093000
DTSTAMP:20260424T072355
CREATED:20220519T205836Z
LAST-MODIFIED:20220519T205836Z
UID:2097260-1652947200-1652952600@ocmannproperties.com
SUMMARY:Cruisin' Ocean City Boardwalk Parade
DESCRIPTION:Bring your camera and come see the cool cars Cruisin’ down the Ocean City\, Maryland boardwalk! With over 2\,000 unique vehicles including Rods\, Customs\, Classics and Trick Trucks! 
URL:https://ocmannproperties.com/event/cruisin-ocean-city-boardwalk-parade-2/
END:VEVENT
END:VCALENDAR