BEGIN:VCALENDAR
VERSION:2.0
PRODID:-//Ocean City MD Property Management - ECPv5.12.3//NONSGML v1.0//EN
CALSCALE:GREGORIAN
METHOD:PUBLISH
X-WR-CALNAME:Ocean City MD Property Management
X-ORIGINAL-URL:https://ocmannproperties.com
X-WR-CALDESC:Events for Ocean City MD Property Management
BEGIN:VTIMEZONE
TZID:America/New_York
BEGIN:DAYLIGHT
TZOFFSETFROM:-0500
TZOFFSETTO:-0400
TZNAME:EDT
DTSTART:20220313T070000
END:DAYLIGHT
BEGIN:STANDARD
TZOFFSETFROM:-0400
TZOFFSETTO:-0500
TZNAME:EST
DTSTART:20221106T060000
END:STANDARD
END:VTIMEZONE
BEGIN:VEVENT
DTSTART;TZID=America/New_York:20220523T093000
DTEND;TZID=America/New_York:20220523T153000
DTSTAMP:20260424T072355
CREATED:20220523T090228Z
LAST-MODIFIED:20220523T090228Z
UID:2097267-1653298200-1653319800@ocmannproperties.com
SUMMARY:Another Look At Watercolor Class & Workshop
DESCRIPTION:Looking at watercolor as a “painting material” and not just as a “watery color”\, we will learn to control the paint and not let the paint control itself. Emphasis will be on composition and value. We will use a rich application of color\, going from a thin “tea” mixture to a more saturated application. Color mixing and application will be a large part of the workshop. Students will work from photographs or a still life arrangement.\n\n\n \nCost: $220 For Members\, $275 For Non-Members \n\nPlease register in advance.  \n \n 
URL:https://ocmannproperties.com/event/another-look-at-watercolor-class-workshop/
END:VEVENT
BEGIN:VEVENT
DTSTART;TZID=America/New_York:20220523T093000
DTEND;TZID=America/New_York:20220523T153000
DTSTAMP:20260424T072355
CREATED:20220523T205857Z
LAST-MODIFIED:20220523T205857Z
UID:2097268-1653298200-1653319800@ocmannproperties.com
SUMMARY:Another Look At Watercolor Class & Workshop
DESCRIPTION:Looking at watercolor as a “painting material” and not just as a “watery color”\, we will learn to control the paint and not let the paint control itself. Emphasis will be on composition and value. We will use a rich application of color\, going from a thin “tea” mixture to a more saturated application. Color mixing and application will be a large part of the workshop. Students will work from photographs or a still life arrangement.\n\n\n \nCost: $220 For Members\, $275 For Non-Members \n\nPlease register in advance.  \n \n 
URL:https://ocmannproperties.com/event/another-look-at-watercolor-class-workshop-2/
END:VEVENT
END:VCALENDAR