BEGIN:VCALENDAR
VERSION:2.0
PRODID:-//Ocean City MD Property Management - ECPv5.12.3//NONSGML v1.0//EN
CALSCALE:GREGORIAN
METHOD:PUBLISH
X-WR-CALNAME:Ocean City MD Property Management
X-ORIGINAL-URL:https://ocmannproperties.com
X-WR-CALDESC:Events for Ocean City MD Property Management
BEGIN:VTIMEZONE
TZID:America/New_York
BEGIN:DAYLIGHT
TZOFFSETFROM:-0500
TZOFFSETTO:-0400
TZNAME:EDT
DTSTART:20230312T070000
END:DAYLIGHT
BEGIN:STANDARD
TZOFFSETFROM:-0400
TZOFFSETTO:-0500
TZNAME:EST
DTSTART:20231105T060000
END:STANDARD
END:VTIMEZONE
BEGIN:VEVENT
DTSTART;TZID=America/New_York:20230114T100000
DTEND;TZID=America/New_York:20230114T120000
DTSTAMP:20260421T212234
CREATED:20230114T085909Z
LAST-MODIFIED:20230114T085909Z
UID:2097756-1673690400-1673697600@ocmannproperties.com
SUMMARY:In Person: Photography with iPone and/or iPad Class with Tom Kennedy
DESCRIPTION:Photography with your iPhone and iPad Cell phones and tablets have become the commonly used camera\, often more than cameras themselves! In this class\, we will discuss some of the advantages and challenges of using these devices for photography. \nAdditionally\, we will look at composition and use of light to capture professional pictures\, and how to share photos and move them between your iPhone\, iPad\, and laptop. We will demonstrate and practice\, cropping and improving your photos\, using the built-in apps on your devices. No experience is necessary. Bring your iPhone and iPad to class to participate in this hands-on demonstration and practice. \nStudents are encouraged to bring their cameras\, iPads and iPhones to class. No experience is necessary. \nCost: \n$35 Members\, $44 Non-Members
URL:https://ocmannproperties.com/event/in-person-photography-with-ipone-and-or-ipad-class-with-tom-kennedy/
END:VEVENT
BEGIN:VEVENT
DTSTART;TZID=America/New_York:20230114T100000
DTEND;TZID=America/New_York:20230114T120000
DTSTAMP:20260421T212234
CREATED:20230114T205832Z
LAST-MODIFIED:20230114T205832Z
UID:2097757-1673690400-1673697600@ocmannproperties.com
SUMMARY:In Person: Photography with iPone and/or iPad Class with Tom Kennedy
DESCRIPTION:Photography with your iPhone and iPad Cell phones and tablets have become the commonly used camera\, often more than cameras themselves! In this class\, we will discuss some of the advantages and challenges of using these devices for photography. \nAdditionally\, we will look at composition and use of light to capture professional pictures\, and how to share photos and move them between your iPhone\, iPad\, and laptop. We will demonstrate and practice\, cropping and improving your photos\, using the built-in apps on your devices. No experience is necessary. Bring your iPhone and iPad to class to participate in this hands-on demonstration and practice. \nStudents are encouraged to bring their cameras\, iPads and iPhones to class. No experience is necessary. \nCost: \n$35 Members\, $44 Non-Members
URL:https://ocmannproperties.com/event/in-person-photography-with-ipone-and-or-ipad-class-with-tom-kennedy-2/
END:VEVENT
END:VCALENDAR