BEGIN:VCALENDAR
VERSION:2.0
PRODID:-//Ocean City MD Property Management - ECPv5.12.3//NONSGML v1.0//EN
CALSCALE:GREGORIAN
METHOD:PUBLISH
X-WR-CALNAME:Ocean City MD Property Management
X-ORIGINAL-URL:https://ocmannproperties.com
X-WR-CALDESC:Events for Ocean City MD Property Management
BEGIN:VTIMEZONE
TZID:America/New_York
BEGIN:DAYLIGHT
TZOFFSETFROM:-0500
TZOFFSETTO:-0400
TZNAME:EDT
DTSTART:20230312T070000
END:DAYLIGHT
BEGIN:STANDARD
TZOFFSETFROM:-0400
TZOFFSETTO:-0500
TZNAME:EST
DTSTART:20231105T060000
END:STANDARD
END:VTIMEZONE
BEGIN:VEVENT
DTSTART;TZID=America/New_York:20230414T000000
DTEND;TZID=America/New_York:20230414T000000
DTSTAMP:20260423T122134
CREATED:20230414T212115Z
LAST-MODIFIED:20230414T212115Z
UID:2097939-1681430400-1681430400@ocmannproperties.com
SUMMARY:DJ RobCee
DESCRIPTION:Rob’s unique DJ mixing skills prove why he remains one of the best in the business. Spinning everything from new-school hits\, to old-school classic jams\, plus the hottest in international dance tracks. It’s a party; don’t miss a beat! \n 
URL:https://ocmannproperties.com/event/dj-robcee-30/
END:VEVENT
BEGIN:VEVENT
DTSTART;TZID=America/New_York:20230414T160000
DTEND;TZID=America/New_York:20230414T200000
DTSTAMP:20260423T122134
CREATED:20230414T093712Z
LAST-MODIFIED:20230414T093712Z
UID:2097938-1681488000-1681502400@ocmannproperties.com
SUMMARY:Full Circle
DESCRIPTION:Come see rock group Full Circle Duo live on stage at the Skye Bar Rooftop Restaurant and Bar! Full Circle Duo plays classic to current rock with influences from Fleetwood Mac\, Sheryl Crowe\, Journey\, and Rob Thomas. Check them out on the rooftop and call up your friends to meet you there for a fun afternoon! 
URL:https://ocmannproperties.com/event/full-circle/
END:VEVENT
END:VCALENDAR