BEGIN:VCALENDAR
VERSION:2.0
PRODID:-//Ocean City MD Property Management - ECPv5.12.3//NONSGML v1.0//EN
CALSCALE:GREGORIAN
METHOD:PUBLISH
X-WR-CALNAME:Ocean City MD Property Management
X-ORIGINAL-URL:https://ocmannproperties.com
X-WR-CALDESC:Events for Ocean City MD Property Management
BEGIN:VTIMEZONE
TZID:America/New_York
BEGIN:DAYLIGHT
TZOFFSETFROM:-0500
TZOFFSETTO:-0400
TZNAME:EDT
DTSTART:20230312T070000
END:DAYLIGHT
BEGIN:STANDARD
TZOFFSETFROM:-0400
TZOFFSETTO:-0500
TZNAME:EST
DTSTART:20231105T060000
END:STANDARD
END:VTIMEZONE
BEGIN:VEVENT
DTSTART;TZID=America/New_York:20230424T180000
DTEND;TZID=America/New_York:20230424T200000
DTSTAMP:20260422T184747
CREATED:20230424T092107Z
LAST-MODIFIED:20230424T092107Z
UID:2097958-1682359200-1682366400@ocmannproperties.com
SUMMARY:MINGO Monday
DESCRIPTION:Stop by the Crabcake Factory Bayside every Monday night for an exciting mingo game (Music Bingo). Mingo is free to play and is complete with prizes\, plus great food and drink specials all night long! 
URL:https://ocmannproperties.com/event/mingo-monday-7/
END:VEVENT
BEGIN:VEVENT
DTSTART;TZID=America/New_York:20230424T180000
DTEND;TZID=America/New_York:20230424T200000
DTSTAMP:20260422T184747
CREATED:20230424T212054Z
LAST-MODIFIED:20230424T212054Z
UID:2097959-1682359200-1682366400@ocmannproperties.com
SUMMARY:MINGO Monday
DESCRIPTION:Stop by the Crabcake Factory Bayside every Monday night for an exciting mingo game (Music Bingo). Mingo is free to play and is complete with prizes\, plus great food and drink specials all night long! 
URL:https://ocmannproperties.com/event/mingo-monday-8/
END:VEVENT
END:VCALENDAR