BEGIN:VCALENDAR
VERSION:2.0
PRODID:-//Ocean City MD Property Management - ECPv5.12.3//NONSGML v1.0//EN
CALSCALE:GREGORIAN
METHOD:PUBLISH
X-WR-CALNAME:Ocean City MD Property Management
X-ORIGINAL-URL:https://ocmannproperties.com
X-WR-CALDESC:Events for Ocean City MD Property Management
BEGIN:VTIMEZONE
TZID:America/New_York
BEGIN:DAYLIGHT
TZOFFSETFROM:-0500
TZOFFSETTO:-0400
TZNAME:EDT
DTSTART:20230312T070000
END:DAYLIGHT
BEGIN:STANDARD
TZOFFSETFROM:-0400
TZOFFSETTO:-0500
TZNAME:EST
DTSTART:20231105T060000
END:STANDARD
END:VTIMEZONE
BEGIN:VEVENT
DTSTART;TZID=America/New_York:20230427T100000
DTEND;TZID=America/New_York:20230427T130000
DTSTAMP:20260422T133508
CREATED:20230427T091859Z
LAST-MODIFIED:20230427T091859Z
UID:2097964-1682589600-1682600400@ocmannproperties.com
SUMMARY:Local Colors\, Watercolors Class |
DESCRIPTION:Watch watercolor demonstrations and try your hand as you paint along with Gerilyn! Have fun while you learn to capture the “local color” in watercolors.\n\nGet on Gerilyn’s email list and she will bring you up-to-date with the changing themes.\n \nAll levels are welcome. Bring what supplies you have or rent a kit for just $10 from the instructor.\n \nCost: \n$30 Members; $38 Non-members
URL:https://ocmannproperties.com/event/local-colors-watercolors-class-3/
END:VEVENT
BEGIN:VEVENT
DTSTART;TZID=America/New_York:20230427T100000
DTEND;TZID=America/New_York:20230427T130000
DTSTAMP:20260422T133508
CREATED:20230427T213021Z
LAST-MODIFIED:20230427T213021Z
UID:2097965-1682589600-1682600400@ocmannproperties.com
SUMMARY:Local Colors\, Watercolors Class |
DESCRIPTION:Watch watercolor demonstrations and try your hand as you paint along with Gerilyn! Have fun while you learn to capture the “local color” in watercolors.\n\nGet on Gerilyn’s email list and she will bring you up-to-date with the changing themes.\n \nAll levels are welcome. Bring what supplies you have or rent a kit for just $10 from the instructor.\n \nCost: \n$30 Members; $38 Non-members
URL:https://ocmannproperties.com/event/local-colors-watercolors-class-4/
END:VEVENT
END:VCALENDAR