BEGIN:VCALENDAR
VERSION:2.0
PRODID:-//Ocean City MD Property Management - ECPv5.12.3//NONSGML v1.0//EN
CALSCALE:GREGORIAN
METHOD:PUBLISH
X-WR-CALNAME:Ocean City MD Property Management
X-ORIGINAL-URL:https://ocmannproperties.com
X-WR-CALDESC:Events for Ocean City MD Property Management
BEGIN:VTIMEZONE
TZID:America/New_York
BEGIN:DAYLIGHT
TZOFFSETFROM:-0500
TZOFFSETTO:-0400
TZNAME:EDT
DTSTART:20230312T070000
END:DAYLIGHT
BEGIN:STANDARD
TZOFFSETFROM:-0400
TZOFFSETTO:-0500
TZNAME:EST
DTSTART:20231105T060000
END:STANDARD
END:VTIMEZONE
BEGIN:VEVENT
DTSTART;TZID=America/New_York:20230428T000000
DTEND;TZID=America/New_York:20230428T000000
DTSTAMP:20260422T120341
CREATED:20230428T211814Z
LAST-MODIFIED:20230428T211814Z
UID:2097967-1682640000-1682640000@ocmannproperties.com
SUMMARY:DJ RobCee
DESCRIPTION:Rob’s unique DJ mixing skills prove why he remains one of the best in the business. Spinning everything from new-school hits\, to old-school classic jams\, plus the hottest in international dance tracks. It’s a party; don’t miss a beat! \n 
URL:https://ocmannproperties.com/event/dj-robcee-31/
END:VEVENT
BEGIN:VEVENT
DTSTART;TZID=America/New_York:20230428T090000
DTEND;TZID=America/New_York:20230428T170000
DTSTAMP:20260422T120341
CREATED:20230428T091823Z
LAST-MODIFIED:20230428T091823Z
UID:2097966-1682672400-1682701200@ocmannproperties.com
SUMMARY:Maryland International Kite Expo
DESCRIPTION: Ocean City\, Maryland and The Kite Loft welcome you to come and fly on the beautiful beaches along our famous boardwalk. The Maryland International Kite Exposition will feature three days of kite flying on the beaches of Ocean City\, Maryland. Throughout the festival there will be exhibitions and demonstrations including stunt and power kite lessons\, Giant kite displays and much more! The festival will showcase some of the best kite flyers from around the world. Kites of all shapes and sizes will be on display. On behalf of The Town of Ocean City and The Kite Loft we welcome everyone to join in the festivities. Bring your family for several days of good old fashion kite flying. Remember\, when we say “Go Fly A Kite\,” we mean it.
URL:https://ocmannproperties.com/event/maryland-international-kite-expo-12/
END:VEVENT
END:VCALENDAR