BEGIN:VCALENDAR
VERSION:2.0
PRODID:-//Ocean City MD Property Management - ECPv5.12.3//NONSGML v1.0//EN
CALSCALE:GREGORIAN
METHOD:PUBLISH
X-WR-CALNAME:Ocean City MD Property Management
X-ORIGINAL-URL:https://ocmannproperties.com
X-WR-CALDESC:Events for Ocean City MD Property Management
BEGIN:VTIMEZONE
TZID:America/New_York
BEGIN:DAYLIGHT
TZOFFSETFROM:-0500
TZOFFSETTO:-0400
TZNAME:EDT
DTSTART:20230312T070000
END:DAYLIGHT
BEGIN:STANDARD
TZOFFSETFROM:-0400
TZOFFSETTO:-0500
TZNAME:EST
DTSTART:20231105T060000
END:STANDARD
END:VTIMEZONE
BEGIN:VEVENT
DTSTART;TZID=America/New_York:20230430T130000
DTEND;TZID=America/New_York:20230430T153000
DTSTAMP:20260422T082028
CREATED:20230430T091914Z
LAST-MODIFIED:20230430T091914Z
UID:2097970-1682859600-1682868600@ocmannproperties.com
SUMMARY:Ocean City Bridal Show
DESCRIPTION:Ocean City Bridal Show provides the attendees with the opportunity to meet with wedding professionals who will provide them with the information regarding everything needed to plan a perfect wedding starting from cakes to catering\, photographers\, DJs\, dresses\, venues\, tuxes\, and much more.  This fun bridal event is the perfect time to meet top wedding vendors\, sip cocktails and watch the Beauty and the Beach Fashion Show by Sandals Bridal.  \n \nAdmission:\n$12.95
URL:https://ocmannproperties.com/event/ocean-city-bridal-show-5/
END:VEVENT
BEGIN:VEVENT
DTSTART;TZID=America/New_York:20230430T130000
DTEND;TZID=America/New_York:20230430T153000
DTSTAMP:20260422T082028
CREATED:20230430T212320Z
LAST-MODIFIED:20230430T212320Z
UID:2097971-1682859600-1682868600@ocmannproperties.com
SUMMARY:Ocean City Bridal Show
DESCRIPTION:Ocean City Bridal Show provides the attendees with the opportunity to meet with wedding professionals who will provide them with the information regarding everything needed to plan a perfect wedding starting from cakes to catering\, photographers\, DJs\, dresses\, venues\, tuxes\, and much more.  This fun bridal event is the perfect time to meet top wedding vendors\, sip cocktails and watch the Beauty and the Beach Fashion Show by Sandals Bridal.  \n \nAdmission:\n$12.95
URL:https://ocmannproperties.com/event/ocean-city-bridal-show-6/
END:VEVENT
END:VCALENDAR