BEGIN:VCALENDAR
VERSION:2.0
PRODID:-//Ocean City MD Property Management - ECPv5.12.3//NONSGML v1.0//EN
CALSCALE:GREGORIAN
METHOD:PUBLISH
X-WR-CALNAME:Ocean City MD Property Management
X-ORIGINAL-URL:https://ocmannproperties.com
X-WR-CALDESC:Events for Ocean City MD Property Management
BEGIN:VTIMEZONE
TZID:America/New_York
BEGIN:DAYLIGHT
TZOFFSETFROM:-0500
TZOFFSETTO:-0400
TZNAME:EDT
DTSTART:20230312T070000
END:DAYLIGHT
BEGIN:STANDARD
TZOFFSETFROM:-0400
TZOFFSETTO:-0500
TZNAME:EST
DTSTART:20231105T060000
END:STANDARD
END:VTIMEZONE
BEGIN:VEVENT
DTSTART;TZID=America/New_York:20230508T100000
DTEND;TZID=America/New_York:20230508T150000
DTSTAMP:20260422T013411
CREATED:20230508T091956Z
LAST-MODIFIED:20230508T091956Z
UID:2097986-1683540000-1683558000@ocmannproperties.com
SUMMARY:In Person Beginners and Beyond Watercolor Class & Workshop
DESCRIPTION:May 8-9-10   “Lighthouse”\nOn Day 1 it’s time to paint that special “Lighthouse” that you have taken hundreds of photos of in every season. So bring in your resources to use and I will have additional photos of lighthouses if needed. We will learn lighthouse perspective\, masking with tape and some history to go along with it. Day 2 will be a demo of “Beach Chairs”\, our favorite spot to be. We will have an hour demo each day and after that\, new artists will have additional Tips and Technique instructions. For new artists lender kits are available at a small charge of $20 for paint equipment and 4 sheets of Watercolor Paper. Most students bring a bag lunch\, and come early to set up before the 10 AM demo.\n\nNew Students may register at any time. Please contact Gerilyn Gaskill if you have questions about the class: Gerilyn Gaskill-email: hggask@comcast.net\n\n \nCost: $150 members\, $188 non members \n\n\n\n 
URL:https://ocmannproperties.com/event/in-person-beginners-and-beyond-watercolor-class-workshop-16/
END:VEVENT
BEGIN:VEVENT
DTSTART;TZID=America/New_York:20230508T100000
DTEND;TZID=America/New_York:20230508T150000
DTSTAMP:20260422T013411
CREATED:20230508T213249Z
LAST-MODIFIED:20230508T213249Z
UID:2097987-1683540000-1683558000@ocmannproperties.com
SUMMARY:In Person Beginners and Beyond Watercolor Class & Workshop
DESCRIPTION:May 8-9-10   “Lighthouse”\nOn Day 1 it’s time to paint that special “Lighthouse” that you have taken hundreds of photos of in every season. So bring in your resources to use and I will have additional photos of lighthouses if needed. We will learn lighthouse perspective\, masking with tape and some history to go along with it. Day 2 will be a demo of “Beach Chairs”\, our favorite spot to be. We will have an hour demo each day and after that\, new artists will have additional Tips and Technique instructions. For new artists lender kits are available at a small charge of $20 for paint equipment and 4 sheets of Watercolor Paper. Most students bring a bag lunch\, and come early to set up before the 10 AM demo.\n\nNew Students may register at any time. Please contact Gerilyn Gaskill if you have questions about the class: Gerilyn Gaskill-email: hggask@comcast.net\n\n \nCost: $150 members\, $188 non members \n\n\n\n 
URL:https://ocmannproperties.com/event/in-person-beginners-and-beyond-watercolor-class-workshop-17/
END:VEVENT
END:VCALENDAR