BEGIN:VCALENDAR
VERSION:2.0
PRODID:-//Ocean City MD Property Management - ECPv5.12.3//NONSGML v1.0//EN
CALSCALE:GREGORIAN
METHOD:PUBLISH
X-WR-CALNAME:Ocean City MD Property Management
X-ORIGINAL-URL:https://ocmannproperties.com
X-WR-CALDESC:Events for Ocean City MD Property Management
BEGIN:VTIMEZONE
TZID:America/New_York
BEGIN:DAYLIGHT
TZOFFSETFROM:-0500
TZOFFSETTO:-0400
TZNAME:EDT
DTSTART:20230312T070000
END:DAYLIGHT
BEGIN:STANDARD
TZOFFSETFROM:-0400
TZOFFSETTO:-0500
TZNAME:EST
DTSTART:20231105T060000
END:STANDARD
END:VTIMEZONE
BEGIN:VEVENT
DTSTART;TZID=America/New_York:20230622T110000
DTEND;TZID=America/New_York:20230622T170000
DTSTAMP:20260422T201928
CREATED:20230622T211846Z
LAST-MODIFIED:20230622T211846Z
UID:2098079-1687431600-1687453200@ocmannproperties.com
SUMMARY:Bobby O' on De Bay
DESCRIPTION: It’s a dance party at Seacrets featuring DJ Bobby O’ playing all your favorite dance hits. Bring a few friends\, come relax\, lay on the rafts\, and enjoy an ice cold drink in the sunshine. 
URL:https://ocmannproperties.com/event/bobby-o-on-de-bay-3/
END:VEVENT
BEGIN:VEVENT
DTSTART;TZID=America/New_York:20230622T120000
DTEND;TZID=America/New_York:20230622T200000
DTSTAMP:20260422T201928
CREATED:20230622T091724Z
LAST-MODIFIED:20230622T091724Z
UID:2098078-1687435200-1687464000@ocmannproperties.com
SUMMARY:Live Music on the Coconuts Patio
DESCRIPTION:Come to the best beach bar on the planet for live music! Enjoy ocean views while dancing on the Coconuts Patio. Take advantage of our dining deals and drink specials. Enjoy happy hour every day from 5-6pm two for one drink deal! 
URL:https://ocmannproperties.com/event/live-music-on-the-coconuts-patio-11/
END:VEVENT
END:VCALENDAR