BEGIN:VCALENDAR
VERSION:2.0
PRODID:-//Ocean City MD Property Management - ECPv5.12.3//NONSGML v1.0//EN
CALSCALE:GREGORIAN
METHOD:PUBLISH
X-WR-CALNAME:Ocean City MD Property Management
X-ORIGINAL-URL:https://ocmannproperties.com
X-WR-CALDESC:Events for Ocean City MD Property Management
BEGIN:VTIMEZONE
TZID:America/New_York
BEGIN:DAYLIGHT
TZOFFSETFROM:-0500
TZOFFSETTO:-0400
TZNAME:EDT
DTSTART:20230312T070000
END:DAYLIGHT
BEGIN:STANDARD
TZOFFSETFROM:-0400
TZOFFSETTO:-0500
TZNAME:EST
DTSTART:20231105T060000
END:STANDARD
END:VTIMEZONE
BEGIN:VEVENT
DTSTART;TZID=America/New_York:20230628T093000
DTEND;TZID=America/New_York:20230628T110000
DTSTAMP:20260423T065948
CREATED:20230628T092300Z
LAST-MODIFIED:20230628T092300Z
UID:2098090-1687944600-1687950000@ocmannproperties.com
SUMMARY:Kids Camp Painting Experience
DESCRIPTION:Kids’ Paint Experience is creative fun for kids ages 4-10 on Monday & Wednesday mornings during the summertime! Each child is guided by our professional artists\, and will create a painting to take with them at the end of the session that morning! Your child can choose their painting theme during the experience. All canvas designs will be sketched out for them\, and all skill levels are welcome. Parents are welcome to stay\, but are also encouraged to drop off/pick up – we are just a short walk to the boardwalk\, and steps to Layton’s and Starbucks! Seating is limited to allow social distancing. Pre-payment/registration is required (You will receive a confirmation email when your order is complete). \n \nREGISTER/PAY HERE: \nPre-registration is required\, and masks are required in the studio for kids ages 5 and over. REFUND/CANCELLATION POLICY: A store credit in the form of a promo code will be issued if canceling with at least 24 hours notice. Less than 24 hour notice and no shows will not be eligible for any store credit. If you’re running late to the scheduled event\, please let us know. If painters are more than 15 minutes late without notice\, their spot may be forfeited. No refunds will be issued.\n \nBy registering for a Painting Experience\, you are agreeing to being featured in some photographs or possibly videos that may be posted on social media\, our website\, or for other promotional items. If you\, or your children do not wish to be featured in any photos or videos\, please let us know upon arrival or before your scheduled event.\n 
URL:https://ocmannproperties.com/event/kids-camp-painting-experience-43/
END:VEVENT
BEGIN:VEVENT
DTSTART;TZID=America/New_York:20230628T093000
DTEND;TZID=America/New_York:20230628T110000
DTSTAMP:20260423T065948
CREATED:20230628T211857Z
LAST-MODIFIED:20230628T211857Z
UID:2098091-1687944600-1687950000@ocmannproperties.com
SUMMARY:Kids Camp Painting Experience
DESCRIPTION:Kids’ Paint Experience is creative fun for kids ages 4-10 on Monday & Wednesday mornings during the summertime! Each child is guided by our professional artists\, and will create a painting to take with them at the end of the session that morning! Your child can choose their painting theme during the experience. All canvas designs will be sketched out for them\, and all skill levels are welcome. Parents are welcome to stay\, but are also encouraged to drop off/pick up – we are just a short walk to the boardwalk\, and steps to Layton’s and Starbucks! Seating is limited to allow social distancing. Pre-payment/registration is required (You will receive a confirmation email when your order is complete). \n \nREGISTER/PAY HERE: \nPre-registration is required\, and masks are required in the studio for kids ages 5 and over. REFUND/CANCELLATION POLICY: A store credit in the form of a promo code will be issued if canceling with at least 24 hours notice. Less than 24 hour notice and no shows will not be eligible for any store credit. If you’re running late to the scheduled event\, please let us know. If painters are more than 15 minutes late without notice\, their spot may be forfeited. No refunds will be issued.\n \nBy registering for a Painting Experience\, you are agreeing to being featured in some photographs or possibly videos that may be posted on social media\, our website\, or for other promotional items. If you\, or your children do not wish to be featured in any photos or videos\, please let us know upon arrival or before your scheduled event.\n 
URL:https://ocmannproperties.com/event/kids-camp-painting-experience-44/
END:VEVENT
END:VCALENDAR