BEGIN:VCALENDAR
VERSION:2.0
PRODID:-//Ocean City MD Property Management - ECPv5.12.3//NONSGML v1.0//EN
CALSCALE:GREGORIAN
METHOD:PUBLISH
X-WR-CALNAME:Ocean City MD Property Management
X-ORIGINAL-URL:https://ocmannproperties.com
X-WR-CALDESC:Events for Ocean City MD Property Management
BEGIN:VTIMEZONE
TZID:America/New_York
BEGIN:DAYLIGHT
TZOFFSETFROM:-0500
TZOFFSETTO:-0400
TZNAME:EDT
DTSTART:20230312T070000
END:DAYLIGHT
BEGIN:STANDARD
TZOFFSETFROM:-0400
TZOFFSETTO:-0500
TZNAME:EST
DTSTART:20231105T060000
END:STANDARD
END:VTIMEZONE
BEGIN:VEVENT
DTSTART;VALUE=DATE:20230711
DTEND;VALUE=DATE:20230712
DTSTAMP:20260424T072356
CREATED:20230711T212032Z
LAST-MODIFIED:20230711T212032Z
UID:2098117-1689033600-1689119999@ocmannproperties.com
SUMMARY:Firework Show
DESCRIPTION:We’ve got a  BIG ANNOUNCEMENT! \nFor the first time ever\, we will be hosting our own firework show. Join in on the fun every Tuesday at 9:45 PM!
URL:https://ocmannproperties.com/event/firework-show/
END:VEVENT
BEGIN:VEVENT
DTSTART;TZID=America/New_York:20230711T100000
DTEND;TZID=America/New_York:20230711T103000
DTSTAMP:20260424T072356
CREATED:20230711T092352Z
LAST-MODIFIED:20230711T092352Z
UID:2098116-1689069600-1689071400@ocmannproperties.com
SUMMARY:Beach Safety Summer Program
DESCRIPTION:Join the Ocean City Life Saving Station Museum and the Ocean City Beach Patrol every Tuesday at the Boardwalk Train Station. Learn all about how to be safe in Ocean City’s surf and even learn how to spell your name in semaphore! This program is free and open to the public. 
URL:https://ocmannproperties.com/event/beach-safety-summer-program-19/
END:VEVENT
END:VCALENDAR