BEGIN:VCALENDAR
VERSION:2.0
PRODID:-//Ocean City MD Property Management - ECPv5.12.3//NONSGML v1.0//EN
CALSCALE:GREGORIAN
METHOD:PUBLISH
X-WR-CALNAME:Ocean City MD Property Management
X-ORIGINAL-URL:https://ocmannproperties.com
X-WR-CALDESC:Events for Ocean City MD Property Management
BEGIN:VTIMEZONE
TZID:America/New_York
BEGIN:DAYLIGHT
TZOFFSETFROM:-0500
TZOFFSETTO:-0400
TZNAME:EDT
DTSTART:20240310T070000
END:DAYLIGHT
BEGIN:STANDARD
TZOFFSETFROM:-0400
TZOFFSETTO:-0500
TZNAME:EST
DTSTART:20241103T060000
END:STANDARD
END:VTIMEZONE
BEGIN:VEVENT
DTSTART;TZID=America/New_York:20240404T110000
DTEND;TZID=America/New_York:20240404T153000
DTSTAMP:20260423T001532
CREATED:20240119T130401Z
LAST-MODIFIED:20240119T130401Z
UID:2098914-1712228400-1712244600@ocmannproperties.com
SUMMARY:OC Bites & Sites Self-Guided Foodie & Fun Tour
DESCRIPTION:Explore OC’s impressive local restaurant and bar scene at your own pace\, time & day. Discover OC’s history\, culture and fascinating facts about this coastal gem of a town and the families who settled here.  Go at your own pace\, tours  take as little at 3 hours but can take 6 hours and be broken into 2 or 3 days if you prefer.  \n \nBenefits of a self-guided tour:\nAvailable anytime\, 7 days a week\nFreedom to go at your own time and pace\nOnly pay restaurants for what you order\nTake your time\, break up into tow or more days\n \nWhat you get on a self-guided tour:\nA map to help you find your way\nSelf-guided itinerary for experiencing culinary delights at multiple locations \nAudio guide\, if you prefer listening over reading\nVideos: interviews with chefs and owners\nPhotos of recommended signature dishes\nAnd so much more 
URL:https://ocmannproperties.com/event/oc-bites-sites-self-guided-foodie-fun-tour-77/
ATTACH;FMTTYPE=image/jpeg:https://ocmannproperties.com/wp-content/uploads/2024/01/dining_cheese_board_150078914-71.jpg
END:VEVENT
BEGIN:VEVENT
DTSTART;TZID=America/New_York:20240404T160000
DTEND;TZID=America/New_York:20240404T200000
DTSTAMP:20260423T001532
CREATED:20240404T091754Z
LAST-MODIFIED:20240404T091754Z
UID:2099820-1712246400-1712260800@ocmannproperties.com
SUMMARY:Wes Davis
DESCRIPTION:Wes Davis is a singer and songwriter who performs originals and rock covers.  He truly knows how to connect with his audience.  Enjoy a great dinner with your family and friends while Wes Davis live on stage from 4 to 8pm at the Skye Bar and Grille. 
URL:https://ocmannproperties.com/event/wes-davis-21/
END:VEVENT
BEGIN:VEVENT
DTSTART;TZID=America/New_York:20240404T160000
DTEND;TZID=America/New_York:20240404T200000
DTSTAMP:20260423T001532
CREATED:20240404T211741Z
LAST-MODIFIED:20240404T211741Z
UID:2099821-1712246400-1712260800@ocmannproperties.com
SUMMARY:Wes Davis
DESCRIPTION:Wes Davis is a singer and songwriter who performs originals and rock covers.  He truly knows how to connect with his audience.  Enjoy a great dinner with your family and friends while Wes Davis live on stage from 4 to 8pm at the Skye Bar and Grille. 
URL:https://ocmannproperties.com/event/wes-davis-22/
END:VEVENT
BEGIN:VEVENT
DTSTART;TZID=America/New_York:20240404T183000
DTEND;TZID=America/New_York:20240404T200000
DTSTAMP:20260423T001532
CREATED:20240119T130410Z
LAST-MODIFIED:20240119T130410Z
UID:2098950-1712255400-1712260800@ocmannproperties.com
SUMMARY:Ole Chap Trivia Thursday With DJ SpeedBump
DESCRIPTION:It’s Ole Chap Trivia night at Beach Barrells with DJ Speed Bump every Thursday night! Test your knowledge\, have some fun with facts while you dine and enjoy a great dinner at Beach Barrels with your family and friends. 
URL:https://ocmannproperties.com/event/ole-chap-trivia-thursday-with-dj-speedbump-10/
ATTACH;FMTTYPE=image/jpeg:https://ocmannproperties.com/wp-content/uploads/2024/01/trivia-2_233683087-9.jpg
END:VEVENT
END:VCALENDAR