BEGIN:VCALENDAR
VERSION:2.0
PRODID:-//Ocean City MD Property Management - ECPv5.12.3//NONSGML v1.0//EN
CALSCALE:GREGORIAN
METHOD:PUBLISH
X-WR-CALNAME:Ocean City MD Property Management
X-ORIGINAL-URL:https://ocmannproperties.com
X-WR-CALDESC:Events for Ocean City MD Property Management
BEGIN:VTIMEZONE
TZID:America/New_York
BEGIN:DAYLIGHT
TZOFFSETFROM:-0500
TZOFFSETTO:-0400
TZNAME:EDT
DTSTART:20240310T070000
END:DAYLIGHT
BEGIN:STANDARD
TZOFFSETFROM:-0400
TZOFFSETTO:-0500
TZNAME:EST
DTSTART:20241103T060000
END:STANDARD
END:VTIMEZONE
BEGIN:VEVENT
DTSTART;TZID=America/New_York:20240405T110000
DTEND;TZID=America/New_York:20240405T153000
DTSTAMP:20260422T222353
CREATED:20240119T130401Z
LAST-MODIFIED:20240119T130401Z
UID:2098912-1712314800-1712331000@ocmannproperties.com
SUMMARY:OC Bites & Sites Self-Guided Foodie & Fun Tour
DESCRIPTION:Explore OC’s impressive local restaurant and bar scene at your own pace\, time & day. Discover OC’s history\, culture and fascinating facts about this coastal gem of a town and the families who settled here.  Go at your own pace\, tours  take as little at 3 hours but can take 6 hours and be broken into 2 or 3 days if you prefer.  \n \nBenefits of a self-guided tour:\nAvailable anytime\, 7 days a week\nFreedom to go at your own time and pace\nOnly pay restaurants for what you order\nTake your time\, break up into tow or more days\n \nWhat you get on a self-guided tour:\nA map to help you find your way\nSelf-guided itinerary for experiencing culinary delights at multiple locations \nAudio guide\, if you prefer listening over reading\nVideos: interviews with chefs and owners\nPhotos of recommended signature dishes\nAnd so much more 
URL:https://ocmannproperties.com/event/oc-bites-sites-self-guided-foodie-fun-tour-76/
ATTACH;FMTTYPE=image/jpeg:https://ocmannproperties.com/wp-content/uploads/2024/01/dining_cheese_board_150078914-70.jpg
END:VEVENT
BEGIN:VEVENT
DTSTART;TZID=America/New_York:20240405T170000
DTEND;TZID=America/New_York:20240405T210000
DTSTAMP:20260422T222353
CREATED:20240119T130411Z
LAST-MODIFIED:20240405T211813Z
UID:2098952-1712336400-1712350800@ocmannproperties.com
SUMMARY:Phil Perdue - "The Piano Man"
DESCRIPTION:Enjoy Phil Perdue “The Piano Man” on the grand piano at the Captain’s Table in Ocean City\, Maryland.  Enjoy fine dining at its best with South African lobster tails\, delicious crab cakes\, certified angus beef steaks and great selection from the bar. Phil’s smooth sounds on the grand piano are a local’s favorite on Friday and Saturday nights.  
URL:https://ocmannproperties.com/event/phil-perdue-the-piano-man-39/
ATTACH;FMTTYPE=image/jpeg:https://ocmannproperties.com/wp-content/uploads/2024/01/piano_keys_-22.jpg
END:VEVENT
BEGIN:VEVENT
DTSTART;TZID=America/New_York:20240405T170000
DTEND;TZID=America/New_York:20240405T190000
DTSTAMP:20260422T222353
CREATED:20240119T130411Z
LAST-MODIFIED:20240405T211814Z
UID:2098956-1712336400-1712343600@ocmannproperties.com
SUMMARY:First Friday Exhibit & Opening Reception
DESCRIPTION: Meet the artists\, enjoy hors d’oeuvres\, and see the new exhibits by a variety of local artists on display at the OC Center for the Arts in Ocean City.  
URL:https://ocmannproperties.com/event/first-friday-exhibit-opening-reception-5/
ATTACH;FMTTYPE=image/jpeg:https://ocmannproperties.com/wp-content/uploads/2024/01/event_art_league_of_ocean_city_opening_reception-2.jpeg
END:VEVENT
BEGIN:VEVENT
DTSTART;TZID=America/New_York:20240405T170000
DTEND;TZID=America/New_York:20240405T210000
DTSTAMP:20260422T222353
CREATED:20240405T211814Z
LAST-MODIFIED:20240405T211814Z
UID:2099826-1712336400-1712350800@ocmannproperties.com
SUMMARY:Opposite Directions
DESCRIPTION:Come to Seacrets and enjoy your favorite local acoustic rock duo from Ocean City. Featuring Darin Engh and Bob Wilkinson\, Opposite Directions was voted “Best Acoustic Rock Duo” by Beachcomber Magazine. Enjoy cover songs from artists like James Taylor\, Jimmy Buffet\, and CSNY\, as well as songs from their release “Seeds of Change” with your favorite drink. 
URL:https://ocmannproperties.com/event/opposite-directions-46/
END:VEVENT
BEGIN:VEVENT
DTSTART;TZID=America/New_York:20240405T213000
DTEND;TZID=America/New_York:20240405T213000
DTSTAMP:20260422T222353
CREATED:20240405T091823Z
LAST-MODIFIED:20240405T091823Z
UID:2099825-1712352600-1712352600@ocmannproperties.com
SUMMARY:Starlight Anthem
DESCRIPTION: Meet your family and friends on the Ocean City\, MD Boardwalk at the Purple Moose Saloon and get ready to dance the night away. Rock and punk band\, Starlight Anthem is playing at the Purple Moose tonight.  
URL:https://ocmannproperties.com/event/starlight-anthem/
END:VEVENT
END:VCALENDAR