BEGIN:VCALENDAR
VERSION:2.0
PRODID:-//Ocean City MD Property Management - ECPv5.12.3//NONSGML v1.0//EN
CALSCALE:GREGORIAN
METHOD:PUBLISH
X-WR-CALNAME:Ocean City MD Property Management
X-ORIGINAL-URL:https://ocmannproperties.com
X-WR-CALDESC:Events for Ocean City MD Property Management
BEGIN:VTIMEZONE
TZID:America/New_York
BEGIN:DAYLIGHT
TZOFFSETFROM:-0500
TZOFFSETTO:-0400
TZNAME:EDT
DTSTART:20240310T070000
END:DAYLIGHT
BEGIN:STANDARD
TZOFFSETFROM:-0400
TZOFFSETTO:-0500
TZNAME:EST
DTSTART:20241103T060000
END:STANDARD
END:VTIMEZONE
BEGIN:VEVENT
DTSTART;TZID=America/New_York:20240410T093000
DTEND;TZID=America/New_York:20240410T153000
DTSTAMP:20260422T142557
CREATED:20240119T130413Z
LAST-MODIFIED:20240408T211732Z
UID:2098964-1712741400-1712763000@ocmannproperties.com
SUMMARY:In-Person: 4-Day Expressive Watercolor Workshop
DESCRIPTION:Fresh flowers in the studio will be the inspiration for the beginning of this dynamic workshop – progressing to the head and figure. Through a series of fun painting exercises\, students will develop a more loose and natural approach – giving them an opportunity to be more spontaneous and expressive in their paintings. \nIn our approach to learning how to interpret the head and figure\, we will learn to express translucent flesh tones\, while focusing on the gesture of the person. Painting children will also be covered. We will work primarily from photos\, – I will send photos and sketches of demos I will be painting – but you may bring your own photos of someone you want to paint instead (or work from some of mine that I bring).  Besides class demonstrations throughout the workshop\, Janet will work individually with each person also\, making sure they understand the painting concepts – a truly “hands on” experience. Focusing on discovering how to control and making dynamic color\, design and expression\, we will also have “Show and Tell” – an opportunity to share and see how we exceed in our expectations!!! \nRegister Today! \n 
URL:https://ocmannproperties.com/event/in-person-4-day-expressive-watercolor-workshop-3/
ATTACH;FMTTYPE=image/jpeg:https://ocmannproperties.com/wp-content/uploads/2024/01/art_colored_pencils-2.jpg
END:VEVENT
BEGIN:VEVENT
DTSTART;TZID=America/New_York:20240410T110000
DTEND;TZID=America/New_York:20240410T153000
DTSTAMP:20260422T142557
CREATED:20240119T130357Z
LAST-MODIFIED:20240119T130357Z
UID:2098896-1712746800-1712763000@ocmannproperties.com
SUMMARY:OC Bites & Sites Self-Guided Foodie & Fun Tour
DESCRIPTION:Explore OC’s impressive local restaurant and bar scene at your own pace\, time & day. Discover OC’s history\, culture and fascinating facts about this coastal gem of a town and the families who settled here.  Go at your own pace\, tours  take as little at 3 hours but can take 6 hours and be broken into 2 or 3 days if you prefer.  \n \nBenefits of a self-guided tour:\nAvailable anytime\, 7 days a week\nFreedom to go at your own time and pace\nOnly pay restaurants for what you order\nTake your time\, break up into tow or more days\n \nWhat you get on a self-guided tour:\nA map to help you find your way\nSelf-guided itinerary for experiencing culinary delights at multiple locations \nAudio guide\, if you prefer listening over reading\nVideos: interviews with chefs and owners\nPhotos of recommended signature dishes\nAnd so much more 
URL:https://ocmannproperties.com/event/oc-bites-sites-self-guided-foodie-fun-tour-68/
ATTACH;FMTTYPE=image/jpeg:https://ocmannproperties.com/wp-content/uploads/2024/01/dining_cheese_board_150078914-62.jpg
END:VEVENT
BEGIN:VEVENT
DTSTART;TZID=America/New_York:20240410T160000
DTEND;TZID=America/New_York:20240410T200000
DTSTAMP:20260422T142557
CREATED:20240409T091939Z
LAST-MODIFIED:20240409T091939Z
UID:2099837-1712764800-1712779200@ocmannproperties.com
SUMMARY:Pinko
DESCRIPTION:Let’s play Pinko on Sundays\, Wednesdays\, and Saturdays in April at Ocean Downs Casino! Ten lucky Club Ocean Ocean members actively playing with their card will be be selected each hour to drop the puck on the board to win FREE Play plus a FINALIST ENTRY!  At the GRAND FINALE drawing on Sunday\, April 28th; five names will be drawn to each win $2\,500 CASH! \n 
URL:https://ocmannproperties.com/event/pinko-9/
END:VEVENT
BEGIN:VEVENT
DTSTART;TZID=America/New_York:20240410T160000
DTEND;TZID=America/New_York:20240410T200000
DTSTAMP:20260422T142557
CREATED:20240409T211811Z
LAST-MODIFIED:20240409T211811Z
UID:2099838-1712764800-1712779200@ocmannproperties.com
SUMMARY:Pinko
DESCRIPTION:Let’s play Pinko on Sundays\, Wednesdays\, and Saturdays in April at Ocean Downs Casino! Ten lucky Club Ocean Ocean members actively playing with their card will be be selected each hour to drop the puck on the board to win FREE Play plus a FINALIST ENTRY!  At the GRAND FINALE drawing on Sunday\, April 28th; five names will be drawn to each win $2\,500 CASH! \n 
URL:https://ocmannproperties.com/event/pinko-10/
END:VEVENT
BEGIN:VEVENT
DTSTART;TZID=America/New_York:20240410T160000
DTEND;TZID=America/New_York:20240410T200000
DTSTAMP:20260422T142557
CREATED:20240410T092020Z
LAST-MODIFIED:20240410T092020Z
UID:2099839-1712764800-1712779200@ocmannproperties.com
SUMMARY:Pinko
DESCRIPTION:Let’s play Pinko on Sundays\, Wednesdays\, and Saturdays in April at Ocean Downs Casino! Ten lucky Club Ocean Ocean members actively playing with their card will be be selected each hour to drop the puck on the board to win FREE Play plus a FINALIST ENTRY!  At the GRAND FINALE drawing on Sunday\, April 28th; five names will be drawn to each win $2\,500 CASH! \n 
URL:https://ocmannproperties.com/event/pinko-11/
END:VEVENT
BEGIN:VEVENT
DTSTART;TZID=America/New_York:20240410T160000
DTEND;TZID=America/New_York:20240410T200000
DTSTAMP:20260422T142557
CREATED:20240410T211805Z
LAST-MODIFIED:20240410T211805Z
UID:2099840-1712764800-1712779200@ocmannproperties.com
SUMMARY:Pinko
DESCRIPTION:Let’s play Pinko on Sundays\, Wednesdays\, and Saturdays in April at Ocean Downs Casino! Ten lucky Club Ocean Ocean members actively playing with their card will be be selected each hour to drop the puck on the board to win FREE Play plus a FINALIST ENTRY!  At the GRAND FINALE drawing on Sunday\, April 28th; five names will be drawn to each win $2\,500 CASH! \n 
URL:https://ocmannproperties.com/event/pinko-12/
END:VEVENT
BEGIN:VEVENT
DTSTART;TZID=America/New_York:20240410T180000
DTEND;TZID=America/New_York:20240410T210000
DTSTAMP:20260422T142557
CREATED:20240119T130413Z
LAST-MODIFIED:20240119T130413Z
UID:2098968-1712772000-1712782800@ocmannproperties.com
SUMMARY:Play Bingo For A Great Cause
DESCRIPTION:Play BINGO for a great cause from 6 to 9pm at The Sterling Tavern. Five rounds of BINGO – $2.00 per Bingo card with prizes each round and a 50/50 raffle (so bring your cash!).  \nAll proceeds go to support ACT.
URL:https://ocmannproperties.com/event/play-bingo-for-a-great-cause-3/
ATTACH;FMTTYPE=image/jpeg:https://ocmannproperties.com/wp-content/uploads/2024/01/bingo_ball_hopper_71044469-6.jpg
END:VEVENT
END:VCALENDAR