BEGIN:VCALENDAR
VERSION:2.0
PRODID:-//Ocean City MD Property Management - ECPv5.12.3//NONSGML v1.0//EN
CALSCALE:GREGORIAN
METHOD:PUBLISH
X-WR-CALNAME:Ocean City MD Property Management
X-ORIGINAL-URL:https://ocmannproperties.com
X-WR-CALDESC:Events for Ocean City MD Property Management
BEGIN:VTIMEZONE
TZID:America/New_York
BEGIN:DAYLIGHT
TZOFFSETFROM:-0500
TZOFFSETTO:-0400
TZNAME:EDT
DTSTART:20240310T070000
END:DAYLIGHT
BEGIN:STANDARD
TZOFFSETFROM:-0400
TZOFFSETTO:-0500
TZNAME:EST
DTSTART:20241103T060000
END:STANDARD
END:VTIMEZONE
BEGIN:VEVENT
DTSTART;VALUE=DATE:20240831
DTEND;VALUE=DATE:20240901
DTSTAMP:20260424T023951
CREATED:20240119T130534Z
LAST-MODIFIED:20240801T212155Z
UID:2099338-1725062400-1725148799@ocmannproperties.com
SUMMARY:MONGO Offshore Challenge
DESCRIPTION:Fish as often as you like between May 1st and September 30th and take the MONGO challenge!  Enter the 5th Annual MONGO Challenge in Ocean City\, Maryland and fish for Swordfish\, Blue Marlin\,  Tuna\, Mahi Mahi and Wahoo all season long. \n \nGet registered and take the MONGO Challenge\, best of luck anglers! 
URL:https://ocmannproperties.com/event/mongo-offshore-challenge-122/
ATTACH;FMTTYPE=image/jpeg:https://ocmannproperties.com/wp-content/uploads/2024/01/fishing_reels_and_rod_lit_by_sunset_95447152-121.jpg
END:VEVENT
BEGIN:VEVENT
DTSTART;TZID=America/New_York:20240831T130000
DTEND;TZID=America/New_York:20240831T170000
DTSTAMP:20260424T023951
CREATED:20240831T092351Z
LAST-MODIFIED:20240831T092351Z
UID:2100220-1725109200-1725123600@ocmannproperties.com
SUMMARY:Turning the Tide
DESCRIPTION:Turning the Tide is co-led by John Corsale and Juules Wardle; two exceptional performers with unmatched enthusiasm. They win over audiences from the Wobbly Barn in Killington\, VT to Key West\, FL’s Sloppy Joe’s; connecting to crowds with the sly sex appeal of their two lead singers and an impeccable rhythm section. Garret Watts\, formerly of Lima Bean Riot holds down the bass\, while Chad Szeliga of Breaking Benjamin fame beats the drums. Keeping the dance floor moving with a wide repertoire of party smash hits\, Turning the Tide is an exciting young band with a veteran presence.
URL:https://ocmannproperties.com/event/turning-the-tide/
END:VEVENT
BEGIN:VEVENT
DTSTART;TZID=America/New_York:20240831T130000
DTEND;TZID=America/New_York:20240831T170000
DTSTAMP:20260424T023951
CREATED:20240831T212213Z
LAST-MODIFIED:20240831T212213Z
UID:2100221-1725109200-1725123600@ocmannproperties.com
SUMMARY:Turning the Tide
DESCRIPTION:Turning the Tide is co-led by John Corsale and Juules Wardle; two exceptional performers with unmatched enthusiasm. They win over audiences from the Wobbly Barn in Killington\, VT to Key West\, FL’s Sloppy Joe’s; connecting to crowds with the sly sex appeal of their two lead singers and an impeccable rhythm section. Garret Watts\, formerly of Lima Bean Riot holds down the bass\, while Chad Szeliga of Breaking Benjamin fame beats the drums. Keeping the dance floor moving with a wide repertoire of party smash hits\, Turning the Tide is an exciting young band with a veteran presence.
URL:https://ocmannproperties.com/event/turning-the-tide-2/
END:VEVENT
BEGIN:VEVENT
DTSTART;TZID=America/New_York:20240831T170000
DTEND;TZID=America/New_York:20240831T210000
DTSTAMP:20260424T023951
CREATED:20240119T130539Z
LAST-MODIFIED:20240119T130539Z
UID:2099368-1725123600-1725138000@ocmannproperties.com
SUMMARY:Phil Perdue - "The Piano Man"
DESCRIPTION:Enjoy Phil Perdue “The Piano Man” on the grand piano at the Captain’s Table in Ocean City\, Maryland.  Enjoy fine dining at its best with South African lobster tails\, delicious crab cakes\, certified angus beef steaks and great selection from the bar. Phil’s smooth sounds on the grand piano are a local’s favorite on Friday and Saturday nights.  
URL:https://ocmannproperties.com/event/phil-perdue-the-piano-man-82/
ATTACH;FMTTYPE=image/jpeg:https://ocmannproperties.com/wp-content/uploads/2024/01/piano_keys_-65.jpg
END:VEVENT
END:VCALENDAR