BEGIN:VCALENDAR
VERSION:2.0
PRODID:-//Ocean City MD Property Management - ECPv5.12.3//NONSGML v1.0//EN
CALSCALE:GREGORIAN
METHOD:PUBLISH
X-WR-CALNAME:Ocean City MD Property Management
X-ORIGINAL-URL:https://ocmannproperties.com
X-WR-CALDESC:Events for Ocean City MD Property Management
BEGIN:VTIMEZONE
TZID:America/New_York
BEGIN:DAYLIGHT
TZOFFSETFROM:-0500
TZOFFSETTO:-0400
TZNAME:EDT
DTSTART:20240310T070000
END:DAYLIGHT
BEGIN:STANDARD
TZOFFSETFROM:-0400
TZOFFSETTO:-0500
TZNAME:EST
DTSTART:20241103T060000
END:STANDARD
END:VTIMEZONE
BEGIN:VEVENT
DTSTART;VALUE=DATE:20240920
DTEND;VALUE=DATE:20240921
DTSTAMP:20260421T062556
CREATED:20240119T130555Z
LAST-MODIFIED:20240901T212154Z
UID:2099426-1726790400-1726876799@ocmannproperties.com
SUMMARY:MONGO Offshore Challenge
DESCRIPTION:Fish as often as you like between May 1st and September 30th and take the MONGO challenge!  Enter the 5th Annual MONGO Challenge in Ocean City\, Maryland and fish for Swordfish\, Blue Marlin\,  Tuna\, Mahi Mahi and Wahoo all season long. \n \nGet registered and take the MONGO Challenge\, best of luck anglers! 
URL:https://ocmannproperties.com/event/mongo-offshore-challenge-151/
ATTACH;FMTTYPE=image/jpeg:https://ocmannproperties.com/wp-content/uploads/2024/01/fishing_reels_and_rod_lit_by_sunset_95447152-150.jpg
END:VEVENT
BEGIN:VEVENT
DTSTART;TZID=America/New_York:20240920T130000
DTEND;TZID=America/New_York:20240920T210000
DTSTAMP:20260421T062556
CREATED:20240920T092153Z
LAST-MODIFIED:20240920T092153Z
UID:2100292-1726837200-1726866000@ocmannproperties.com
SUMMARY:Live Entertainment at The Wedge Bar
DESCRIPTION:Sit outside on the deck\, and enjoy live bands\, great food\, and drinks while you dine with your family at The Wedge Bar in downtown Ocean City\, Maryland.  
URL:https://ocmannproperties.com/event/live-entertainment-at-the-wedge-bar-22/
END:VEVENT
BEGIN:VEVENT
DTSTART;TZID=America/New_York:20240920T130000
DTEND;TZID=America/New_York:20240920T210000
DTSTAMP:20260421T062556
CREATED:20240920T212304Z
LAST-MODIFIED:20240920T212304Z
UID:2100293-1726837200-1726866000@ocmannproperties.com
SUMMARY:Live Entertainment at The Wedge Bar
DESCRIPTION:Sit outside on the deck\, and enjoy live bands\, great food\, and drinks while you dine with your family at The Wedge Bar in downtown Ocean City\, Maryland.  
URL:https://ocmannproperties.com/event/live-entertainment-at-the-wedge-bar-23/
END:VEVENT
BEGIN:VEVENT
DTSTART;TZID=America/New_York:20240920T170000
DTEND;TZID=America/New_York:20240920T210000
DTSTAMP:20260421T062556
CREATED:20240119T130559Z
LAST-MODIFIED:20240119T130559Z
UID:2099448-1726851600-1726866000@ocmannproperties.com
SUMMARY:Phil Perdue - "The Piano Man"
DESCRIPTION:Enjoy Phil Perdue “The Piano Man” on the grand piano at the Captain’s Table in Ocean City\, Maryland.  Enjoy fine dining at its best with South African lobster tails\, delicious crab cakes\, certified angus beef steaks and great selection from the bar. Phil’s smooth sounds on the grand piano are a local’s favorite on Friday and Saturday nights.  
URL:https://ocmannproperties.com/event/phil-perdue-the-piano-man-87/
ATTACH;FMTTYPE=image/jpeg:https://ocmannproperties.com/wp-content/uploads/2024/01/piano_keys_-70.jpg
END:VEVENT
END:VCALENDAR