BEGIN:VCALENDAR
VERSION:2.0
PRODID:-//Ocean City MD Property Management - ECPv5.12.3//NONSGML v1.0//EN
CALSCALE:GREGORIAN
METHOD:PUBLISH
X-WR-CALNAME:Ocean City MD Property Management
X-ORIGINAL-URL:https://ocmannproperties.com
X-WR-CALDESC:Events for Ocean City MD Property Management
BEGIN:VTIMEZONE
TZID:America/New_York
BEGIN:DAYLIGHT
TZOFFSETFROM:-0500
TZOFFSETTO:-0400
TZNAME:EDT
DTSTART:20240310T070000
END:DAYLIGHT
BEGIN:STANDARD
TZOFFSETFROM:-0400
TZOFFSETTO:-0500
TZNAME:EST
DTSTART:20241103T060000
END:STANDARD
END:VTIMEZONE
BEGIN:VEVENT
DTSTART;VALUE=DATE:20240921
DTEND;VALUE=DATE:20240922
DTSTAMP:20260421T080055
CREATED:20240119T130554Z
LAST-MODIFIED:20240901T212154Z
UID:2099424-1726876800-1726963199@ocmannproperties.com
SUMMARY:MONGO Offshore Challenge
DESCRIPTION:Fish as often as you like between May 1st and September 30th and take the MONGO challenge!  Enter the 5th Annual MONGO Challenge in Ocean City\, Maryland and fish for Swordfish\, Blue Marlin\,  Tuna\, Mahi Mahi and Wahoo all season long. \n \nGet registered and take the MONGO Challenge\, best of luck anglers! 
URL:https://ocmannproperties.com/event/mongo-offshore-challenge-150/
ATTACH;FMTTYPE=image/jpeg:https://ocmannproperties.com/wp-content/uploads/2024/01/fishing_reels_and_rod_lit_by_sunset_95447152-149.jpg
END:VEVENT
BEGIN:VEVENT
DTSTART;TZID=America/New_York:20240921T160000
DTEND;TZID=America/New_York:20240921T200000
DTSTAMP:20260421T080055
CREATED:20240921T092202Z
LAST-MODIFIED:20240921T092202Z
UID:2100294-1726934400-1726948800@ocmannproperties.com
SUMMARY:Red Cup Riches
DESCRIPTION:Red Cup Riches ~ Big Pong Supersized Winning! Five Club Ocean members actively playing with their card will be drawn each hour to play pong to win FREE PLAY on Sundays\, Wednesdays and Saturdays in September. \n\n 
URL:https://ocmannproperties.com/event/red-cup-riches/
END:VEVENT
BEGIN:VEVENT
DTSTART;TZID=America/New_York:20240921T160000
DTEND;TZID=America/New_York:20240921T200000
DTSTAMP:20260421T080055
CREATED:20240921T212622Z
LAST-MODIFIED:20240921T212622Z
UID:2100295-1726934400-1726948800@ocmannproperties.com
SUMMARY:Red Cup Riches
DESCRIPTION:Red Cup Riches ~ Big Pong Supersized Winning! Five Club Ocean members actively playing with their card will be drawn each hour to play pong to win FREE PLAY on Sundays\, Wednesdays and Saturdays in September. \n\n 
URL:https://ocmannproperties.com/event/red-cup-riches-2/
END:VEVENT
BEGIN:VEVENT
DTSTART;TZID=America/New_York:20240921T170000
DTEND;TZID=America/New_York:20240921T210000
DTSTAMP:20260421T080055
CREATED:20240119T130559Z
LAST-MODIFIED:20240119T130559Z
UID:2099450-1726938000-1726952400@ocmannproperties.com
SUMMARY:Phil Perdue - "The Piano Man"
DESCRIPTION:Enjoy Phil Perdue “The Piano Man” on the grand piano at the Captain’s Table in Ocean City\, Maryland.  Enjoy fine dining at its best with South African lobster tails\, delicious crab cakes\, certified angus beef steaks and great selection from the bar. Phil’s smooth sounds on the grand piano are a local’s favorite on Friday and Saturday nights.  
URL:https://ocmannproperties.com/event/phil-perdue-the-piano-man-88/
ATTACH;FMTTYPE=image/jpeg:https://ocmannproperties.com/wp-content/uploads/2024/01/piano_keys_-71.jpg
END:VEVENT
BEGIN:VEVENT
DTSTART;TZID=America/New_York:20240921T200000
DTEND;TZID=America/New_York:20240921T230000
DTSTAMP:20260421T080055
CREATED:20240119T130600Z
LAST-MODIFIED:20240119T130600Z
UID:2099452-1726948800-1726959600@ocmannproperties.com
SUMMARY:Black Dog Alley
DESCRIPTION:Black Dog Alley whose mission is to move you\, to groove you and to rock your very soul is playing live at Crawl Street Tavern in Ocean City\, Maryland. This Easton\, MD based band has a diverse set list ranging from classic jam rock and rhythm and blues\, to funk and reggae. 
URL:https://ocmannproperties.com/event/black-dog-alley-2/
ATTACH;FMTTYPE=image/jpeg:https://ocmannproperties.com/wp-content/uploads/2024/01/live_music_neon_sign_127800626-2.jpg
END:VEVENT
END:VCALENDAR