BEGIN:VCALENDAR
VERSION:2.0
PRODID:-//Ocean City MD Property Management - ECPv5.12.3//NONSGML v1.0//EN
CALSCALE:GREGORIAN
METHOD:PUBLISH
X-WR-CALNAME:Ocean City MD Property Management
X-ORIGINAL-URL:https://ocmannproperties.com
X-WR-CALDESC:Events for Ocean City MD Property Management
BEGIN:VTIMEZONE
TZID:America/New_York
BEGIN:DAYLIGHT
TZOFFSETFROM:-0500
TZOFFSETTO:-0400
TZNAME:EDT
DTSTART:20240310T070000
END:DAYLIGHT
BEGIN:STANDARD
TZOFFSETFROM:-0400
TZOFFSETTO:-0500
TZNAME:EST
DTSTART:20241103T060000
END:STANDARD
END:VTIMEZONE
BEGIN:VEVENT
DTSTART;VALUE=DATE:20240922
DTEND;VALUE=DATE:20240923
DTSTAMP:20260421T093700
CREATED:20240119T130552Z
LAST-MODIFIED:20240901T212154Z
UID:2099414-1726963200-1727049599@ocmannproperties.com
SUMMARY:MONGO Offshore Challenge
DESCRIPTION:Fish as often as you like between May 1st and September 30th and take the MONGO challenge!  Enter the 5th Annual MONGO Challenge in Ocean City\, Maryland and fish for Swordfish\, Blue Marlin\,  Tuna\, Mahi Mahi and Wahoo all season long. \n \nGet registered and take the MONGO Challenge\, best of luck anglers! 
URL:https://ocmannproperties.com/event/mongo-offshore-challenge-145/
ATTACH;FMTTYPE=image/jpeg:https://ocmannproperties.com/wp-content/uploads/2024/01/fishing_reels_and_rod_lit_by_sunset_95447152-144.jpg
END:VEVENT
BEGIN:VEVENT
DTSTART;TZID=America/New_York:20240922T080000
DTEND;TZID=America/New_York:20240922T110000
DTSTAMP:20260421T093700
CREATED:20240922T092205Z
LAST-MODIFIED:20240922T092205Z
UID:2100296-1726992000-1727002800@ocmannproperties.com
SUMMARY:Cars and Coffee OCMD
DESCRIPTION:Grab a great cup of coffee at the Coffee Beanery then check out all of the cool rides in the parking lot. Cars and Coffee is every Sunday morning from 8am to 11 am at the Coffee Beanery on 94th Street. 
URL:https://ocmannproperties.com/event/cars-and-coffee-ocmd-47/
END:VEVENT
BEGIN:VEVENT
DTSTART;TZID=America/New_York:20240922T080000
DTEND;TZID=America/New_York:20240922T110000
DTSTAMP:20260421T093700
CREATED:20240922T212214Z
LAST-MODIFIED:20240922T212214Z
UID:2100297-1726992000-1727002800@ocmannproperties.com
SUMMARY:Cars and Coffee OCMD
DESCRIPTION:Grab a great cup of coffee at the Coffee Beanery then check out all of the cool rides in the parking lot. Cars and Coffee is every Sunday morning from 8am to 11 am at the Coffee Beanery on 94th Street. 
URL:https://ocmannproperties.com/event/cars-and-coffee-ocmd-48/
END:VEVENT
END:VCALENDAR