BEGIN:VCALENDAR
VERSION:2.0
PRODID:-//Ocean City MD Property Management - ECPv5.12.3//NONSGML v1.0//EN
CALSCALE:GREGORIAN
METHOD:PUBLISH
X-WR-CALNAME:Ocean City MD Property Management
X-ORIGINAL-URL:https://ocmannproperties.com
X-WR-CALDESC:Events for Ocean City MD Property Management
BEGIN:VTIMEZONE
TZID:America/New_York
BEGIN:DAYLIGHT
TZOFFSETFROM:-0500
TZOFFSETTO:-0400
TZNAME:EDT
DTSTART:20240310T070000
END:DAYLIGHT
BEGIN:STANDARD
TZOFFSETFROM:-0400
TZOFFSETTO:-0500
TZNAME:EST
DTSTART:20241103T060000
END:STANDARD
END:VTIMEZONE
BEGIN:VEVENT
DTSTART;TZID=America/New_York:20241130T170000
DTEND;TZID=America/New_York:20241130T210000
DTSTAMP:20260422T191003
CREATED:20240119T130623Z
LAST-MODIFIED:20240119T130623Z
UID:2099520-1732986000-1733000400@ocmannproperties.com
SUMMARY:Phil Perdue - "The Piano Man"
DESCRIPTION:Enjoy Phil Perdue “The Piano Man” on the grand piano at the Captain’s Table in Ocean City\, Maryland.  Enjoy fine dining at its best with South African lobster tails\, delicious crab cakes\, certified angus beef steaks and great selection from the bar. Phil’s smooth sounds on the grand piano are a local’s favorite on Friday and Saturday nights.  
URL:https://ocmannproperties.com/event/phil-perdue-the-piano-man-108/
ATTACH;FMTTYPE=image/jpeg:https://ocmannproperties.com/wp-content/uploads/2024/01/piano_keys_-91.jpg
END:VEVENT
BEGIN:VEVENT
DTSTART;TZID=America/New_York:20241130T200000
DTEND;TZID=America/New_York:20241130T230000
DTSTAMP:20260422T191003
CREATED:20240119T130624Z
LAST-MODIFIED:20241130T212224Z
UID:2099522-1732996800-1733007600@ocmannproperties.com
SUMMARY:Rogue Citizens
DESCRIPTION:The right mix of Rock and Reggae\, The Rogue Citizens from Ocean City\, Maryland are playing a full set of reggae rock\, funk and rock tonight at High Stakes Bar and Grill in Fenwick Island Delaware. 
URL:https://ocmannproperties.com/event/rogue-citizens-4/
ATTACH;FMTTYPE=image/jpeg:https://ocmannproperties.com/wp-content/uploads/2024/01/band_live_music_sign-13.jpg
END:VEVENT
BEGIN:VEVENT
DTSTART;TZID=America/New_York:20241130T213000
DTEND;TZID=America/New_York:20241130T213000
DTSTAMP:20260422T191003
CREATED:20241130T092336Z
LAST-MODIFIED:20241130T092336Z
UID:2100456-1733002200-1733002200@ocmannproperties.com
SUMMARY:Totally Stoked
DESCRIPTION:Totally Stoked is rockin’ at the most popular rock bar on the Ocean City Boardwalk\, The Purple Moose tonight!  The bar is open all day to serve you refreshing cocktails and drinks.  \n \n 
URL:https://ocmannproperties.com/event/totally-stoked/
END:VEVENT
BEGIN:VEVENT
DTSTART;TZID=America/New_York:20241130T213000
DTEND;TZID=America/New_York:20241130T213000
DTSTAMP:20260422T191003
CREATED:20241130T212224Z
LAST-MODIFIED:20241130T212224Z
UID:2100457-1733002200-1733002200@ocmannproperties.com
SUMMARY:Totally Stoked
DESCRIPTION:Totally Stoked is rockin’ at the most popular rock bar on the Ocean City Boardwalk\, The Purple Moose tonight!  The bar is open all day to serve you refreshing cocktails and drinks.  \n \n 
URL:https://ocmannproperties.com/event/totally-stoked-2/
END:VEVENT
END:VCALENDAR