BEGIN:VCALENDAR
VERSION:2.0
PRODID:-//Ocean City MD Property Management - ECPv5.12.3//NONSGML v1.0//EN
CALSCALE:GREGORIAN
METHOD:PUBLISH
X-WR-CALNAME:Ocean City MD Property Management
X-ORIGINAL-URL:https://ocmannproperties.com
X-WR-CALDESC:Events for Ocean City MD Property Management
BEGIN:VTIMEZONE
TZID:America/New_York
BEGIN:DAYLIGHT
TZOFFSETFROM:-0500
TZOFFSETTO:-0400
TZNAME:EDT
DTSTART:20250309T070000
END:DAYLIGHT
BEGIN:STANDARD
TZOFFSETFROM:-0400
TZOFFSETTO:-0500
TZNAME:EST
DTSTART:20251102T060000
END:STANDARD
END:VTIMEZONE
BEGIN:VEVENT
DTSTART;TZID=America/New_York:20250311T180000
DTEND;TZID=America/New_York:20250311T200000
DTSTAMP:20260421T095659
CREATED:20250308T092208Z
LAST-MODIFIED:20250308T092208Z
UID:2100663-1741716000-1741723200@ocmannproperties.com
SUMMARY:Bar Bingo with DJ Rupe
DESCRIPTION:Join us every Tuesday night for Bar Bingo with DJ Rupe. Games from 6:00 pm – 8:00 pm with a winner every game.   A great time where you can get food and drink specials just for players\, with Mystery Balls for even deeper discounted drink prices. \n \nFree to play! 
URL:https://ocmannproperties.com/event/bar-bingo-with-dj-rupe-41/
END:VEVENT
BEGIN:VEVENT
DTSTART;TZID=America/New_York:20250311T180000
DTEND;TZID=America/New_York:20250311T200000
DTSTAMP:20260421T095659
CREATED:20250308T212212Z
LAST-MODIFIED:20250308T212212Z
UID:2100664-1741716000-1741723200@ocmannproperties.com
SUMMARY:Bar Bingo with DJ Rupe
DESCRIPTION:Join us every Tuesday night for Bar Bingo with DJ Rupe. Games from 6:00 pm – 8:00 pm with a winner every game.   A great time where you can get food and drink specials just for players\, with Mystery Balls for even deeper discounted drink prices. \n \nFree to play! 
URL:https://ocmannproperties.com/event/bar-bingo-with-dj-rupe-42/
END:VEVENT
BEGIN:VEVENT
DTSTART;TZID=America/New_York:20250311T180000
DTEND;TZID=America/New_York:20250311T200000
DTSTAMP:20260421T095659
CREATED:20250309T092320Z
LAST-MODIFIED:20250309T092320Z
UID:2100665-1741716000-1741723200@ocmannproperties.com
SUMMARY:Bar Bingo with DJ Rupe
DESCRIPTION:Join us every Tuesday night for Bar Bingo with DJ Rupe. Games from 6:00 pm – 8:00 pm with a winner every game.   A great time where you can get food and drink specials just for players\, with Mystery Balls for even deeper discounted drink prices. \n \nFree to play! 
URL:https://ocmannproperties.com/event/bar-bingo-with-dj-rupe-43/
END:VEVENT
BEGIN:VEVENT
DTSTART;TZID=America/New_York:20250311T180000
DTEND;TZID=America/New_York:20250311T200000
DTSTAMP:20260421T095659
CREATED:20250309T212328Z
LAST-MODIFIED:20250309T212328Z
UID:2100666-1741716000-1741723200@ocmannproperties.com
SUMMARY:Bar Bingo with DJ Rupe
DESCRIPTION:Join us every Tuesday night for Bar Bingo with DJ Rupe. Games from 6:00 pm – 8:00 pm with a winner every game.   A great time where you can get food and drink specials just for players\, with Mystery Balls for even deeper discounted drink prices. \n \nFree to play! 
URL:https://ocmannproperties.com/event/bar-bingo-with-dj-rupe-44/
END:VEVENT
BEGIN:VEVENT
DTSTART;TZID=America/New_York:20250311T180000
DTEND;TZID=America/New_York:20250311T200000
DTSTAMP:20260421T095659
CREATED:20250310T092236Z
LAST-MODIFIED:20250310T092236Z
UID:2100667-1741716000-1741723200@ocmannproperties.com
SUMMARY:Bar Bingo with DJ Rupe
DESCRIPTION:Join us every Tuesday night for Bar Bingo with DJ Rupe. Games from 6:00 pm – 8:00 pm with a winner every game.   A great time where you can get food and drink specials just for players\, with Mystery Balls for even deeper discounted drink prices. \n \nFree to play! 
URL:https://ocmannproperties.com/event/bar-bingo-with-dj-rupe-45/
END:VEVENT
BEGIN:VEVENT
DTSTART;TZID=America/New_York:20250311T180000
DTEND;TZID=America/New_York:20250311T200000
DTSTAMP:20260421T095659
CREATED:20250310T212324Z
LAST-MODIFIED:20250310T212324Z
UID:2100668-1741716000-1741723200@ocmannproperties.com
SUMMARY:Bar Bingo with DJ Rupe
DESCRIPTION:Join us every Tuesday night for Bar Bingo with DJ Rupe. Games from 6:00 pm – 8:00 pm with a winner every game.   A great time where you can get food and drink specials just for players\, with Mystery Balls for even deeper discounted drink prices. \n \nFree to play! 
URL:https://ocmannproperties.com/event/bar-bingo-with-dj-rupe-46/
END:VEVENT
BEGIN:VEVENT
DTSTART;TZID=America/New_York:20250311T180000
DTEND;TZID=America/New_York:20250311T200000
DTSTAMP:20260421T095659
CREATED:20250311T092533Z
LAST-MODIFIED:20250311T092533Z
UID:2100669-1741716000-1741723200@ocmannproperties.com
SUMMARY:Bar Bingo with DJ Rupe
DESCRIPTION:Join us every Tuesday night for Bar Bingo with DJ Rupe. Games from 6:00 pm – 8:00 pm with a winner every game.   A great time where you can get food and drink specials just for players\, with Mystery Balls for even deeper discounted drink prices. \n \nFree to play! 
URL:https://ocmannproperties.com/event/bar-bingo-with-dj-rupe-47/
END:VEVENT
BEGIN:VEVENT
DTSTART;TZID=America/New_York:20250311T180000
DTEND;TZID=America/New_York:20250311T200000
DTSTAMP:20260421T095659
CREATED:20250311T212235Z
LAST-MODIFIED:20250311T212235Z
UID:2100670-1741716000-1741723200@ocmannproperties.com
SUMMARY:Bar Bingo with DJ Rupe
DESCRIPTION:Join us every Tuesday night for Bar Bingo with DJ Rupe. Games from 6:00 pm – 8:00 pm with a winner every game.   A great time where you can get food and drink specials just for players\, with Mystery Balls for even deeper discounted drink prices. \n \nFree to play! 
URL:https://ocmannproperties.com/event/bar-bingo-with-dj-rupe-48/
END:VEVENT
END:VCALENDAR